BEGIN:VCALENDAR
VERSION:2.0
PRODID:-//West Village - ECPv4.6//NONSGML v1.0//EN
CALSCALE:GREGORIAN
METHOD:PUBLISH
X-WR-CALNAME:West Village
X-ORIGINAL-URL:https://westvillagedallas.com
X-WR-CALDESC:Events for West Village
BEGIN:VEVENT
DTSTART;TZID=UTC+0:20241024T170000
DTEND;TZID=UTC+0:20241024T190000
DTSTAMP:20260421T123022
CREATED:20241017T142637Z
LAST-MODIFIED:20241017T142637Z
UID:4227-1729789200-1729796400@westvillagedallas.com
SUMMARY:Alto Trunk or Treat
DESCRIPTION:
URL:https://westvillagedallas.com/event/alto-trunk-or-treat/
LOCATION:3699 McKinney Ave. #305\, Dallas\, TX\, 75204\, United States
ATTACH;FMTTYPE=image/jpeg:https://westvillagedallas.com/wp-content/uploads/2024/10/Alto-Trunk-or-Treat-Graphic.jpg
END:VEVENT
END:VCALENDAR