BEGIN:VCALENDAR
VERSION:2.0
PRODID:-//West Village - ECPv4.6//NONSGML v1.0//EN
CALSCALE:GREGORIAN
METHOD:PUBLISH
X-WR-CALNAME:West Village
X-ORIGINAL-URL:https://westvillagedallas.com
X-WR-CALDESC:Events for West Village
BEGIN:VEVENT
DTSTART;VALUE=DATE:20230901
DTEND;VALUE=DATE:20230901
DTSTAMP:20260420T151238
CREATED:20230829T160017Z
LAST-MODIFIED:20230829T160017Z
UID:3909-1693526400-1693612799@westvillagedallas.com
SUMMARY:Celebrate National Cabernet Sauvignon Day at Cru
DESCRIPTION:Celebarate National Cabernet Sauvignon Day at Cru with 1/3 off all bottles of Cabernet Sauvignon! \n
URL:https://westvillagedallas.com/event/celebrate-national-cabernet-sauvignon-day-at-cru/
LOCATION:3699 McKinney Ave. #107\, Dallas\, TX\, 75204\, United States
ATTACH;FMTTYPE=image/jpeg:https://westvillagedallas.com/wp-content/uploads/2023/08/Cru_1043_National_Cabernet_Sauvignon_Day_2023_1080x1080.jpg
END:VEVENT
END:VCALENDAR