BEGIN:VCALENDAR
VERSION:2.0
PRODID:-//West Village - ECPv4.6//NONSGML v1.0//EN
CALSCALE:GREGORIAN
METHOD:PUBLISH
X-WR-CALNAME:West Village
X-ORIGINAL-URL:https://westvillagedallas.com
X-WR-CALDESC:Events for West Village
BEGIN:VEVENT
DTSTART;VALUE=DATE:20241125
DTEND;VALUE=DATE:20241127
DTSTAMP:20260419T164441
CREATED:20241126T142435Z
LAST-MODIFIED:20241126T142435Z
UID:4258-1732492800-1732751999@westvillagedallas.com
SUMMARY:Formula Wellness Biggest Sale of the Year
DESCRIPTION:
URL:https://westvillagedallas.com/event/formula-wellness-biggest-sale-of-the-year/
LOCATION:3699 McKinney Avenue\, Dallas\, TX\, 75204\, United States
ATTACH;FMTTYPE=image/png:https://westvillagedallas.com/wp-content/uploads/2024/11/Formula-Wellness-November-BOGO-50-Graphic.png
END:VEVENT
END:VCALENDAR