BEGIN:VCALENDAR
VERSION:2.0
PRODID:-//West Village - ECPv4.6//NONSGML v1.0//EN
CALSCALE:GREGORIAN
METHOD:PUBLISH
X-WR-CALNAME:West Village
X-ORIGINAL-URL:https://westvillagedallas.com
X-WR-CALDESC:Events for West Village
BEGIN:VEVENT
DTSTART;TZID=UTC+0:20230914T180000
DTEND;TZID=UTC+0:20230914T200000
DTSTAMP:20260420T193916
CREATED:20230829T174442Z
LAST-MODIFIED:20230829T174442Z
UID:3919-1694714400-1694721600@westvillagedallas.com
SUMMARY:Fresh Faces of Fashion
DESCRIPTION:This celebration salutes successful\, trendsetting and philanthropic Dallas men and women whose chic fashion sense are matched only by their dedication to community and innovative endeavors. Partners are given the opportunity to showcase their brand to our exclusive network and influential audience. Modern Luxury Dallas’ favorite fall event will once again be the talk of the town when Fresh Faces of Fashion is brought back to West Village this September. The event will celebrate and highlight the 2023 class of Fresh Faces ith their fingers on the pulse of creativity and the next wave of impact in our great city. \n
URL:https://westvillagedallas.com/event/fresh-faces-of-fashion-3/
LOCATION:3699 McKinney Ave. #305\, Dallas\, TX\, 75204\, United States
ATTACH;FMTTYPE=image/png:https://westvillagedallas.com/wp-content/uploads/2023/08/Fresh-Faces-Invite.png
END:VEVENT
END:VCALENDAR