BEGIN:VCALENDAR
VERSION:2.0
PRODID:-//West Village - ECPv4.6//NONSGML v1.0//EN
CALSCALE:GREGORIAN
METHOD:PUBLISH
X-WR-CALNAME:West Village
X-ORIGINAL-URL:https://westvillagedallas.com
X-WR-CALDESC:Events for West Village
BEGIN:VEVENT
DTSTART;VALUE=DATE:20230815
DTEND;VALUE=DATE:20230907
DTSTAMP:20260420T103145
CREATED:20230815T080006Z
LAST-MODIFIED:20230814T151204Z
UID:3861-1692057600-1694131199@westvillagedallas.com
SUMMARY:Labor Day Sale at Saatva
DESCRIPTION:If you’re preparing to send the young ones off for a new semester of learning or looking to upgrade your sleep sanctuary during the dog days of summer\, shop Saatva’s Labor Day Sale\, with early access starting on August 15. \nUpgrade your sleep sanctuary and save up to $600 during Saatva’s Labor Day Sale. It’s the perfect time to shop their award-winning\, made-to-order mattresses and cooling bedding\, bath\, and sleep essentials. Saatva collections can also help you update your child’s bedroom (or dorm room) before the new school year. Saatva’s Labor Day Sale runs from September 1-7 in stores and online\, but you can beat the rush during their early access period\, which starts on August 15—no code needed.  \n
URL:https://westvillagedallas.com/event/labor-day-sale-at-saatva/
LOCATION:3699 McKinney Avenue #405\, Dallas\, TX\, 75204
ATTACH;FMTTYPE=image/jpeg:https://westvillagedallas.com/wp-content/uploads/2023/08/Saatva-Labor-Day-Sale.jpg
END:VEVENT
END:VCALENDAR