BEGIN:VCALENDAR
VERSION:2.0
PRODID:-//West Village - ECPv4.6//NONSGML v1.0//EN
CALSCALE:GREGORIAN
METHOD:PUBLISH
X-WR-CALNAME:West Village
X-ORIGINAL-URL:https://westvillagedallas.com
X-WR-CALDESC:Events for West Village
BEGIN:VEVENT
DTSTART;VALUE=DATE:20241209
DTEND;VALUE=DATE:20241215
DTSTAMP:20260419T115735
CREATED:20241211T092824Z
LAST-MODIFIED:20241211T092824Z
UID:4277-1733702400-1734307199@westvillagedallas.com
SUMMARY:Purchase Flannels at Mizzen+Main
DESCRIPTION:2 for $200 Flannels – Purchase 2 flannels for $200 \n
URL:https://westvillagedallas.com/event/purchase-flannels-at-mizzenmain/
LOCATION:3699 McKinney Avenue #407\, Dallas\, TX\, 75204
ATTACH;FMTTYPE=image/jpeg:https://westvillagedallas.com/wp-content/uploads/2024/12/2For200_8.jpg
END:VEVENT
END:VCALENDAR