BEGIN:VCALENDAR
VERSION:2.0
PRODID:-//West Village - ECPv4.6//NONSGML v1.0//EN
CALSCALE:GREGORIAN
METHOD:PUBLISH
X-WR-CALNAME:West Village
X-ORIGINAL-URL:https://westvillagedallas.com
X-WR-CALDESC:Events for West Village
BEGIN:VEVENT
DTSTART;VALUE=DATE:20241216
DTEND;VALUE=DATE:20241224
DTSTAMP:20260419T133426
CREATED:20241211T092829Z
LAST-MODIFIED:20241219T024008Z
UID:4278-1734307200-1735084799@westvillagedallas.com
SUMMARY:Purchase Sweaters at Mizzen+Main
DESCRIPTION:30% off sweaters (exclusions apply) – Sweaters are 30% off \n
URL:https://westvillagedallas.com/event/purchase-sweaters-at-mizzenmain/
LOCATION:3699 McKinney Avenue #407\, Dallas\, TX\, 75204
ATTACH;FMTTYPE=image/jpeg:https://westvillagedallas.com/wp-content/uploads/2024/12/8-1.jpg
END:VEVENT
END:VCALENDAR