BEGIN:VCALENDAR
VERSION:2.0
PRODID:-//West Village - ECPv4.6//NONSGML v1.0//EN
CALSCALE:GREGORIAN
METHOD:PUBLISH
X-WR-CALNAME:West Village
X-ORIGINAL-URL:https://westvillagedallas.com
X-WR-CALDESC:Events for West Village
BEGIN:VEVENT
DTSTART;TZID=UTC+0:20241203T170000
DTEND;TZID=UTC+0:20241203T190000
DTSTAMP:20260419T133608
CREATED:20241203T033020Z
LAST-MODIFIED:20241203T033805Z
UID:4261-1733245200-1733252400@westvillagedallas.com
SUMMARY:SKIN SPIRIT - Tinsel & Tox Event
DESCRIPTION:Bring a friend who is new to Skin Spirit and you both will receive $100 off your treatment. \nPromos on Tox\, Filler\, Facials and more. \nJewelry Pop up Featuring\nTricia Ryan Studio \nHair Consultations by\nDavidjon Salon \nLocation\nWest Village Dallas Skin Spirit\n3636 McKinney Ave Suite 170 \n
URL:https://westvillagedallas.com/event/skin-spirit-tinsel-tox-event/
LOCATION:3699 McKinney Avenue\, Dallas\, TX\, 75204\, United States
ATTACH;FMTTYPE=image/jpeg:https://westvillagedallas.com/wp-content/uploads/2024/12/Tinsel-Tox-Event-Graphic-1.jpg
END:VEVENT
END:VCALENDAR