BEGIN:VCALENDAR
VERSION:2.0
PRODID:-//West Village - ECPv4.6//NONSGML v1.0//EN
CALSCALE:GREGORIAN
METHOD:PUBLISH
X-WR-CALNAME:West Village
X-ORIGINAL-URL:https://westvillagedallas.com
X-WR-CALDESC:Events for West Village
BEGIN:VEVENT
DTSTART;VALUE=DATE:20231005
DTEND;VALUE=DATE:20231026
DTSTAMP:20260420T213727
CREATED:20231005T151642Z
LAST-MODIFIED:20231005T152159Z
UID:3972-1696464000-1698364799@westvillagedallas.com
SUMMARY:Team Jersey Thursdays at Sweetgreen
DESCRIPTION:Any customer that comes into sweetgreen wearing their team pride will receive 20% off their order (ALL DAY\, in store only)! \nCan’t visit in store? Use promo code SGDFW5 for $5 off your first digital order. \n
URL:https://westvillagedallas.com/event/team-jersey-thursdays-at-sweetgreen/
LOCATION:3636 McKinney Avenue\, Dallas\, TX\, 75204
ATTACH;FMTTYPE=image/png:https://westvillagedallas.com/wp-content/uploads/2023/10/sweetgreen-thursday-jersey-days.png
END:VEVENT
END:VCALENDAR