BEGIN:VCALENDAR
VERSION:2.0
PRODID:-//West Village - ECPv4.6//NONSGML v1.0//EN
CALSCALE:GREGORIAN
METHOD:PUBLISH
X-WR-CALNAME:West Village
X-ORIGINAL-URL:https://westvillagedallas.com
X-WR-CALDESC:Events for West Village
BEGIN:VEVENT
DTSTART;VALUE=DATE:20241101
DTEND;VALUE=DATE:20241125
DTSTAMP:20260421T110745
CREATED:20241106T034339Z
LAST-MODIFIED:20241106T152410Z
UID:4243-1730419200-1732579199@westvillagedallas.com
SUMMARY:Toska Spa Coming Soon
DESCRIPTION:
URL:https://westvillagedallas.com/event/toska-spa-coming-soon/
LOCATION:3699 McKinney Avenue\, Dallas\, TX\, 75204\, United States
ATTACH;FMTTYPE=image/jpeg:https://westvillagedallas.com/wp-content/uploads/2024/11/Toska-Spa-2.jpg
END:VEVENT
END:VCALENDAR