BEGIN:VCALENDAR
VERSION:2.0
PRODID:-//West Village - ECPv4.6//NONSGML v1.0//EN
CALSCALE:GREGORIAN
METHOD:PUBLISH
X-WR-CALNAME:West Village
X-ORIGINAL-URL:https://westvillagedallas.com
X-WR-CALDESC:Events for West Village
BEGIN:VEVENT
DTSTART;VALUE=DATE:20231103
DTEND;VALUE=DATE:20231109
DTSTAMP:20260421T085424
CREATED:20231103T003030Z
LAST-MODIFIED:20231101T200911Z
UID:4013-1698969600-1699574399@westvillagedallas.com
SUMMARY:Violet Crown Showtimes Friday\, November 3rd - Thursday\, November 9th
DESCRIPTION:November 3rd:  \nDumb Money – 11:35AM\, 4:00PM\, 6:30PM\, 9:00PM \nFive Nights at Freddys – 11:30AM\, 2:00PM\, 4:30PM\, 7:00PM\, 9:35PM \nKillers of the Flower Moon – 11:45AM\, 1:30PM\, 3:30PM\, 7:30PM \nPriscilla – 12:45PM\, 2:10PM\, 4:50PM\, 6:00PM\, 8:50PM \nTaylor Swift the Eras Tour – 7:50PM \nNovember 4th: \nDumb Money – 11:35AM\, 4:00PM\, 6:30PM\, 9:00PM \nFive Nights at Freddys – 11:30AM\, 2:00PM\, 4:30PM\, 7:00PM\, 9:35PM \nKillers of the Flower Moon – 11:45AM\, 1:30PM\, 3:30PM\, 7:30PM \nPriscilla – 12:45PM\, 2:10PM\, 4:50PM\, 6:00PM\, 8:50PM \nTaylor Swift the Eras Tour – 7:50PM \nNovember 5th: \nDumb Money – 11:35AM\, 4:00PM\, 6:30PM\, 9:00PM \nFive Nights at Freddys – 11:30AM\, 2:00PM\, 4:30PM\, 7:00PM\, 9:35PM \nKillers of the Flower Moon – 11:45AM\, 1:30PM\, 3:30PM\, 7:30PM \nPriscilla – 12:45PM\, 2:10PM (Open Caption)\, 4:50PM\, 6:00PM\, 8:50PM \nTaylor Swift the Eras Tour – 7:50PM \nNovember 6th: \nDumb Money – 1:00PM\, 3:35PM\, 6:10PM\, 8:40Pm \nFive Nights at Freddy’s – 1:10PM\, 3:50PM\, 6:30PM\, 9:10PM \nKillers of the Flower Moon – 1:30PM\, 4:45PM\, 7:10PM \nPriscilla – 1:40PM\, 4:25PM\, 6:00PM\, 8:50PM \nSaw X – 2:00PM\, 9:00PM \nNovember 7th:  \nDumb Money – 1:15PM\, 3:50PM\, 8:50PM \nFive Nights at Freddys – 1:35PM\, 4:15PM\, 9:00PM \nKillers of the Flower Moon – 1:30PM\, 4:30PM\, 7:25PM \nLittle Shop of Horrors – 6:30PM \nPriscilla – 2:00PM\, 4:45PM\, 6:00PM\, 8:50PM \nSaw X – 1:40PM \nNovember 8th: \nDumb Money – 1:00PM\, 3:30PM\, 8:40PM \nFive Nights at Freddys – 2:00PM\, 4:35PM\, 6:35PM\, 9:10PM \nKillers of the Flower Moon – 1:00PM\, 4:40PM\, 6:00PM\, 8:50PM \nSaw X – 1:45PM\, 9:00PM \nNovember 9th: \nDumb Money – 3:35PM\, 6:10PM\, 8:40PM \nFive Nights at Freddys – 1:00PM\, 4:00PM\, 6:40PM\, 9:20PM \nKillers of the Flower Moon – 1:40PM\, 3:00PM\, 7:15PM \nPriscilla – 1:00PM\, 3:45PM\, 6:25PM\, 9:10PM \nSaw X – 1:15PM\, 8:50PM \n
URL:https://westvillagedallas.com/event/violet-crown-showtimes-friday-november-3rd-thursday-november-9th/
LOCATION:3699 McKinney Avenue #100\, Dallas\, TX\, 75204
ATTACH;FMTTYPE=image/png:https://westvillagedallas.com/wp-content/uploads/2023/02/vc-logo.png
END:VEVENT
END:VCALENDAR