BEGIN:VCALENDAR
VERSION:2.0
PRODID:-//West Village - ECPv4.6//NONSGML v1.0//EN
CALSCALE:GREGORIAN
METHOD:PUBLISH
X-WR-CALNAME:West Village
X-ORIGINAL-URL:https://westvillagedallas.com
X-WR-CALDESC:Events for West Village
BEGIN:VEVENT
DTSTART;VALUE=DATE:20231117
DTEND;VALUE=DATE:20231123
DTSTAMP:20260421T101852
CREATED:20231117T174030Z
LAST-MODIFIED:20231117T174030Z
UID:4019-1700179200-1700783999@westvillagedallas.com
SUMMARY:Violet Crown Weekly Showings Friday\, November 17th - Thursday\, November 23rd
DESCRIPTION:November 17th:  \nHoldovers – 12:00PM\, 3:10PM\, 6:00PM\, 9:10PM \nHunger Games The Ballad of Songbirds & Snakes – 12:10PM\, 3:50PM\, 7:30PM\, 9:00PM \nKillers of the Flower Moon – 12:10PM\, 5:00PM \nMarvels – 11:45AM\, 3:25PM\, 6:20PM\, 9:35PM \nPriscilla – 12:40PM\, 2:20PM\, 4:25PM\, 7:00PM\, 9:20PM \nNovember 18th: \nHoldovers – 12:00PM\, 3:10PM\, 6:00PM\, 9:10PM \nHunger Games The Ballad of Songbirds & Snakes – 12:10PM\, 3:50PM\, 7:30PM\, 9:00PM \nKillers of the Flower Moon – 12:10PM\, 5:00PM \nMarvels – 11:45AM\, 3:25PM\, 6:20PM\, 9:35PM \nPriscilla – 12:40PM\, 2:20PM\, 4:25PM\, 7:00PM\, 9:20PM \nNovember 19th: \nHoldovers – 12:00PM\, 3:10PM\, 6:00PM\, 9:10PM \nHunger Games The Ballad of Songbirds & Snakes – 12:10PM (Open Caption)\, 3:50PM\, 7:30PM\, 9:00PM \nKillers of the Flower Moon – 12:10PM\, 5:00PM \nMarvels – 11:45AM\, 3:25PM\, 6:20PM\, 9:35PM \nPriscilla – 12:40PM\, 2:20PM\, 4:25PM\, 7:00PM\, 9:20PM \nNovember 20th: \nHoldovers – 3:15PM\, 6:00PM\, 8:45PM \nHunger Games The Ballad of Songbirds & Snakes – 2:30PM\, 4:50PM\, 7:45PM \nKillers of the Flower Moon – 2:40PM\, 7:00PM \nMarvels – 2:20PM\, 6:15PM\, 9:00PM \nPriscilla – 2:10PM\, 5:00PM\, 8:20PM \nNovember 21st: \nHoldovers – 3:15PM\, 8:35PM \nHunger Games The Ballad of Songbirds & Snakes – 2:30PM\, 4:50PM\, 7:45PM \nKillers of the Flower Moon – 2:40PM\, 7:00PM \nMarvels – 2:20PM\, 6:00PM\, 9:00PM \nPlanes\, Trains\, and Automobiles – 6:30PM \nPriscilla – 2:10PM\, 5:00PM\, 8:20PM \nNovember 22nd: \nHoldovers – 1:50PM\, 5:40PM\, 8:45PM \nHunger Games The Ballad of Songbirds & Snakes – 2:15PM\, 4:00PM\, 8:30PM \nMarvels – 1:40PM\, 6:45PM\, 9:15PM \nNapoleon – 3:00PM\, 5:00PM\, 7:45PM \nPriscilla – 1:20PM\, 4:10PM\, 6:25PM\, 9:00PM \n
URL:https://westvillagedallas.com/event/violet-crown-weekly-showings-friday-november-17th-thursday-november-23rd/
LOCATION:3699 McKinney Avenue #100\, Dallas\, TX\, 75204
ATTACH;FMTTYPE=image/png:https://westvillagedallas.com/wp-content/uploads/2023/02/vc-logo.png
END:VEVENT
END:VCALENDAR