BEGIN:VCALENDAR
VERSION:2.0
PRODID:-//West Village - ECPv4.6//NONSGML v1.0//EN
CALSCALE:GREGORIAN
METHOD:PUBLISH
X-WR-CALNAME:West Village
X-ORIGINAL-URL:https://westvillagedallas.com
X-WR-CALDESC:Events for West Village
BEGIN:VEVENT
DTSTART;VALUE=DATE:20230915
DTEND;VALUE=DATE:20230921
DTSTAMP:20260420T194339
CREATED:20230914T161332Z
LAST-MODIFIED:20230914T161332Z
UID:3942-1694736000-1695340799@westvillagedallas.com
SUMMARY:Violet Crown Weekly Showings September 15th - September 21st
DESCRIPTION:Friday\, September 15th \nBarbie – 12:10PM\, 3:30PM\, 5:35PM\, 8:25PM \nBottoms – 11:45AM\, 2:00PM\, 7:00PM\, 9:20PM \nEqualizer 3 – 12:40PM\, 3:20PM\, 6:00PM\, 9:00PM \nMy Big Fat Greek Wedding – 12:00PM\, 2:15PM\, 4:30PM\, 6:45PM\, 8:45PM \nNun II – 12:40PM\, 2:50PM\, 4:20PM\, 6:20PM\, 9:10PM \nSaturday\, September 16th \nBarbie – 12:10PM\, 3:30PM\, 5:35PM\, 8:25PM \nBottoms – 11:45AM\, 2:00PM\, 7:00PM\, 9:20PM \nEqualizer 3 – 12:40PM\, 6:00PM\, 8:10PM \nMy Big Fat Greek Wedding – 11:50AM\, 3:35PM\, 5:45Pm\, 8:45PM \nNun II – 12:40PM\, 2:50PM\, 4:20PM\, 6:20PM\, 9:10PM \nSunday\, September 17th \nBarbie – 12:10PM\, 3:30PM\, 5:35PM\, 8:25PM \nBottoms – 11:45AM\, 2:00PM\, 7:00PM\, 9:20PM \nEqualizer 3 – 12:40PM\, 3:20PM\, 6:00PM\, 9:00PM \nMy Big Fat Greek Wedding – 12:00PM\, 2:15PM\, 4:30PM\, 6:45PM\, 8:45PM \nNun II – 12:40PM\, 2:50PM (Open Caption)\, 4:20PM\, 6:20PM\, 9:10PM \nMonday\, September 18th \nBarbie – 3:25PM\, 5:45PM\, 8:30PM \nBottoms – 3:20PM\, 6:50PM\, 9:10PM \nEqualizer 3 – 3:50PM\, 5:35PM\, 8:15PM \nMy Big Fat Greek Wedding – 3:15PM\, 6:30PM\, 8:50PM \nNun II – 4:10PM (Open Caption)\, 6:15PM\, 9:00PM \nTuesday\, September 19th \nBarbie – 3:25PM\, 5:45PM\, 8:30PM \nBottoms – 3:20PM\, 6:50PM\, 9:10PM \nEqualizer 3 – 3:50PM\, 5:35PM\, 8:15PM \nMy Big Fat Greek Wedding – 3:15PM\, 6:30PM\, 8:50PM \nNun II – 4:10PM (Open Caption)\, 6:15PM\, 9:00PM \nWednesday\, September 20th \nBarbie – 3:25PM\, 5:45PM\, 8:30PM\, \nBottoms – 3:20PM\, 6:50PM\, 9:10PM \nEqualizer – 3:50PM\, 5:35PM\, 8:15PM \nMy Big Fat Greek Wedding – 3:15PM\, 6:30PM\, 8:50PM \nNun II – 4:10PM (Open Caption)\, 6:15PM\, 9:00PM \nThursday\, September 21st  \nBarbie – 3:25PM\, 5:45PM\, 8:30PM \nBottoms – 3:20PM\, 8:50PM \nCrow – 7:00PM \nEqualizer 3 – 3:50PM\, 5:35PM\, 8:15PM \nMy Big Fat Greek Wedding – 3:15PM\, 6:30PM \nNun II – 4:20PM\, 6:15PM\, 9:00PM \n  \n  \n
URL:https://westvillagedallas.com/event/violet-crown-weekly-showings-september-15th-september-21st/
LOCATION:3699 McKinney Avenue #100\, Dallas\, TX\, 75204
ATTACH;FMTTYPE=image/png:https://westvillagedallas.com/wp-content/uploads/2023/02/vc-logo.png
END:VEVENT
END:VCALENDAR