BEGIN:VCALENDAR
VERSION:2.0
PRODID:-//West Village - ECPv4.6//NONSGML v1.0//EN
CALSCALE:GREGORIAN
METHOD:PUBLISH
X-WR-CALNAME:West Village
X-ORIGINAL-URL:https://westvillagedallas.com
X-WR-CALDESC:Events for West Village
BEGIN:VEVENT
DTSTART;VALUE=DATE:20240913
DTEND;VALUE=DATE:20240913
DTSTAMP:20260421T171347
CREATED:20240910T045935Z
LAST-MODIFIED:20240910T050515Z
UID:4192-1726185600-1726271999@westvillagedallas.com
SUMMARY:You're Invited
DESCRIPTION:Join us to view our fall/winter collection with drinks\, light bites and styling advice from our experts team.  \n
URL:https://westvillagedallas.com/event/youre-invited/
LOCATION:3700 McKinney Ave. #100\, Dallas\, TX\, 75204\, United States
ATTACH;FMTTYPE=image/jpeg:https://westvillagedallas.com/wp-content/uploads/2024/09/thumbnail_image0.jpg
END:VEVENT
END:VCALENDAR