BEGIN:VCALENDAR
VERSION:2.0
PRODID:-//West Village - ECPv4.6//NONSGML v1.0//EN
CALSCALE:GREGORIAN
METHOD:PUBLISH
X-WR-CALNAME:West Village
X-ORIGINAL-URL:https://westvillagedallas.com
X-WR-CALDESC:Events for West Village
BEGIN:VEVENT
DTSTART;TZID=UTC+0:20170719T203000
DTEND;TZID=UTC+0:20170719T233000
DTSTAMP:20260424T212049
CREATED:20170810T163440Z
LAST-MODIFIED:20170810T163846Z
UID:193-1500496200-1500507000@westvillagedallas.com
SUMMARY:E.T. – Extra Terrestrial
DESCRIPTION:Movie Nights:\nJoin us for our Movie Night (between MiCocina and Magnolia Theatre). Enjoy free movies every third Wednesday night with live entertainment before the movie. Please bring your own blankets and chairs to enjoy the movie. West Village’s restaurants will provide cash bar and snacks will be available for purchase. Please be so kind and do not bring outside food or drinks. \nLive entertainment starts at 6:30 pm and the movie begins at 8:30 pm. \n
URL:https://westvillagedallas.com/event/e-t-extra-terrestrial/
ATTACH;FMTTYPE=image/jpeg:https://westvillagedallas.com/wp-content/uploads/2017/08/E.T..jpg
END:VEVENT
END:VCALENDAR