BEGIN:VCALENDAR
VERSION:2.0
PRODID:-//West Village - ECPv4.6//NONSGML v1.0//EN
CALSCALE:GREGORIAN
METHOD:PUBLISH
X-WR-CALNAME:West Village
X-ORIGINAL-URL:https://westvillagedallas.com
X-WR-CALDESC:Events for West Village
BEGIN:VEVENT
DTSTART;VALUE=DATE:20171027
DTEND;VALUE=DATE:20171105
DTSTAMP:20260424T163542
CREATED:20171024T141544Z
LAST-MODIFIED:20171025T181039Z
UID:1355-1509062400-1509926399@westvillagedallas.com
SUMMARY:Partners Card 2017 Benefiting The Family Place
DESCRIPTION: \nPartners Card benefiting The Family Place 2017\, presented by Bank of Texas\, is the only sale where you truly save. That is\, save lives and support the critical work of The Family Place. The Partners Card entitles the cardholder to a 20% discount at participating retailers for a ten-day period from October 27 – November 5\, 2017. \nHere’s how it works:\nPurchase a Partners Card for $70\n– Call Partners Card hotline at 214.443.7754 or visit www.partnerscard.org by October 21.\n– Purchase from community seller volunteers\, your neighborhood Tom Thumb or one of the card-selling stores listed in bold starting October 21.\n– Download the Partners Card App from the Apple Store or Google Play and purchase your card digitally. \n100% of your Partners Card purchase goes directly to supporting survivors of family violence. \nParticipating retailers: \nAbi Ferrin \nAllen Edmonds \nAvalon Salon & Spa \nBrooks Brothers \nDaniel Taylor Clothier \nJ. Crew \nKendra Scott \nL.bartlett \nLOFT \nLorna Jane \nLure Salon \nNicole Kwon Concept Store \nQ Clothier \nRye51 \nShopSeptember \nUNTUCKit \ny&i clothing boutique \n*Partner’s Cards are available for purchase at Retailers whose names are bolded. \n  \n
URL:https://westvillagedallas.com/event/partners-card-2017-benefiting-the-family-place/
END:VEVENT
END:VCALENDAR