BEGIN:VCALENDAR
VERSION:2.0
PRODID:-//West Village - ECPv4.6//NONSGML v1.0//EN
CALSCALE:GREGORIAN
METHOD:PUBLISH
X-WR-CALNAME:West Village
X-ORIGINAL-URL:https://westvillagedallas.com
X-WR-CALDESC:Events for West Village
BEGIN:VEVENT
DTSTART;TZID=UTC+0:20180121T130000
DTEND;TZID=UTC+0:20180121T153000
DTSTAMP:20260424T120208
CREATED:20180109T215940Z
LAST-MODIFIED:20180109T215940Z
UID:1548-1516539600-1516548600@westvillagedallas.com
SUMMARY:LIVELY x B-Zen Goddess Workshop taught by Brittany Madrid
DESCRIPTION: \nWe teamed up with Brittany Madrid\, the creator\, and host of B-ZenTV\, to bring you a “B-Zen Goddess Workshop” event! Stop by the LIVELY Dallas Pop-up on Sunday\, January 21 from 1 PM- 3 PM for a Guided Self-meditation and Intention Setting Workshop taught by Brittany Madrid. The first 20 people to come will receive a free Geo Lace Bralette! \n*First come\, first serve! \nRegister here: \nhttps://www.eventbrite.com/e/lively-x-b-zen-goddess-workshop-taught-by-brittany-madrid-tickets-41731814982 \n
URL:https://westvillagedallas.com/event/lively-x-b-zen-goddess-workshop-taught-by-brittany-madrid/
LOCATION:3699 McKinney Avenue\, Dallas\, TX\, 75204\, United States
END:VEVENT
BEGIN:VEVENT
DTSTART;VALUE=DATE:20180111
DTEND;VALUE=DATE:20180121
DTSTAMP:20260424T120208
CREATED:20180109T214048Z
LAST-MODIFIED:20180109T214048Z
UID:1510-1515628800-1516579199@westvillagedallas.com
SUMMARY:Wear LIVELY Pop-up
DESCRIPTION:This NYC-based online shop is popping up in Dallas in the former Kendra Scott space in West Village from January 11-21. This brand of bras and underwear blurs the lines of lingerie\, activewear\, and swim for a curated collection dubbed Leisurée. The shop is open Monday through Saturday\, 10 am-7 pm and on Sundays\, noon-6 pm. \nMore info visit: https://www.wearlively.com/blogs/events/lively-first-ever-pop-up-in-dallas \n \n
URL:https://westvillagedallas.com/event/wear-lively-pop-up/
LOCATION:3699 McKinney Avenue\, Dallas\, TX\, 75204\, United States
END:VEVENT
END:VCALENDAR