BEGIN:VCALENDAR
VERSION:2.0
PRODID:-//West Village - ECPv4.6//NONSGML v1.0//EN
CALSCALE:GREGORIAN
METHOD:PUBLISH
X-WR-CALNAME:West Village
X-ORIGINAL-URL:https://westvillagedallas.com
X-WR-CALDESC:Events for West Village
BEGIN:VEVENT
DTSTART;TZID=UTC+0:20180207T183000
DTEND;TZID=UTC+0:20180207T203000
DTSTAMP:20260424T102429
CREATED:20180131T195154Z
LAST-MODIFIED:20180131T201831Z
UID:1583-1518028200-1518035400@westvillagedallas.com
SUMMARY:Self Love: Nourish Yourself | Manifest Your Purpose
DESCRIPTION:Treat yourself to a night of FREE therapeutic massages and NuFace facial treatments from Hand & Stone Massage and Facial Spa – Dallas – West Village\, TX\, along with complimentary non-toxic manicures from MiniLuxe West Village. The night will conclude with a guided self-love meditation and intention setting workshop led by host of BZen tv\, Brittany Madrid.\n \n**You will need to follow the link below and take the free 10-minute VIA Character Strengths Test to identify your top 5 superpower strengths! \nhttps://www.viacharacter.org/www \n
URL:https://westvillagedallas.com/event/self-love-nourish-yourself-manifest-your-purpose/
LOCATION:3700 McKinney Ave. #108\, Dallas\, 75204\, United States
ATTACH;FMTTYPE=image/jpeg:https://westvillagedallas.com/wp-content/uploads/2018/01/BP.jpg
END:VEVENT
END:VCALENDAR