BEGIN:VCALENDAR
VERSION:2.0
PRODID:-//West Village - ECPv4.6//NONSGML v1.0//EN
CALSCALE:GREGORIAN
METHOD:PUBLISH
X-WR-CALNAME:West Village
X-ORIGINAL-URL:https://westvillagedallas.com
X-WR-CALDESC:Events for West Village
BEGIN:VEVENT
DTSTART;TZID=UTC+0:20180210T110000
DTEND;TZID=UTC+0:20180210T190000
DTSTAMP:20260424T103250
CREATED:20180131T201133Z
LAST-MODIFIED:20180131T201738Z
UID:1587-1518260400-1518289200@westvillagedallas.com
SUMMARY:Mamoun's Falafel Dallas - Grand Opening
DESCRIPTION:It’s the moment we’ve all been waiting for… the Grand Opening of Mamoun’s Dallas is Saturday\, Feb 10\, 2018 at 11am! We hope you’re ready DALLAS! \nGIVEAWAYS\n– First 100 guests in line will receive a FREE side of 8oz hummus or falafel\, AND will receive a raffle ticket for a chance to win our Grand Prize 40″ FLAT SCREEN TV!\n– Second 100 guests will receive a raffle ticket for a FREE APPLE iPAD MINI\n– TWO LUCKY WINNERS will get a FREE CATERING party for 10 guests! (valued at $200 each) \nGRAND OPENING LOCATION:\nMamoun’s Falafel\n3839 McKinney Ave\nDallas\, TX 75204\nSaturday\, Feb 10\, 2018 – 11am-3am \nInstagram: @mamounsdallas\nHashtags: #mamounsdallas #mamouns \nMamoun’s is where you can get a taste of the Original Falafel Restaurant from New York! If you’re ever visiting New York\, you’ll know that Mamoun’s has a line out the door and is a staple visit. If you don’t stop by\, you’re missing out! \nNew to Mamoun’s Falafel? Here’s a bit about us: \nFamily owned and operated since the beginning\, the restaurant is now part of the history and culture of the Village in New York City. Our philosophy is simple: authentic Middle Eastern Cuisine served in a traditional environment. Everything we serve is made from scratch using only the freshest natural ingredients\, the finest imported spices\, and our signature recipes. \nMamoun’s Falafel\, the fastest growing Middle-Eastern fast casual restaurant in North America and oldest falafel restaurant in New York City\, has announced that their newest location\, is slated to open in Dallas. The new location will be situated in Dallas’ most vibrant walkable shopping\, dining\, residential\, and entertainment district\, West Village\, at 3839 McKinney Ave\, Ste #150. \nCome hang out and celebrate with us! If you can’t make the celebration at 11am\, we will be open until 3am… (To those who need a late-night fix\, we got you!) \nWe’ll be raffling off exclusive t-shirts\, hats\, and sunglasses all day so make sure you stick around for your chance to WIN! \nOur Grand Opening is an all-ages event\, so make sure to bring your friends and family! Don’t forget to check out our exclusive Snapchat filter while you’re celebrating with us\, because if you don’t snap it… were you even there? \n
URL:https://westvillagedallas.com/event/mamouns-falafel-dallas-grand-opening/
LOCATION:3699 McKinney Avenue\, Dallas\, TX\, 75204\, United States
ATTACH;FMTTYPE=image/jpeg:https://westvillagedallas.com/wp-content/uploads/2018/01/mamouns_115-min.jpg
END:VEVENT
END:VCALENDAR