BEGIN:VCALENDAR
VERSION:2.0
PRODID:-//West Village - ECPv4.6//NONSGML v1.0//EN
CALSCALE:GREGORIAN
METHOD:PUBLISH
X-WR-CALNAME:West Village
X-ORIGINAL-URL:https://westvillagedallas.com
X-WR-CALDESC:Events for West Village
BEGIN:VEVENT
DTSTART;TZID=UTC+0:20180211T160000
DTEND;TZID=UTC+0:20180211T170000
DTSTAMP:20260424T103411
CREATED:20180201T225606Z
LAST-MODIFIED:20180201T225606Z
UID:1595-1518364800-1518368400@westvillagedallas.com
SUMMARY:Cardio Dance Party
DESCRIPTION:Get a head start on your Monday with a cardio dance workout that will prevent any Sunday night blues and get you closer to your 2018 fitness goals! \nThis class mixes low-intensity and high-intensity moves for an interval-style\, calorie-burning dance fitness party. Once the music takes over\, you’ll see why this workout is called “exercise in disguise”. \nAttendees will receive an exclusive 20% discount storewide when purchasing two or more items the day of the event. \nSpace is limited so get your tickets in advance! \n  \n
URL:https://westvillagedallas.com/event/cardio-dance-party/
LOCATION:3700 McKinney Ave. #110\, Dallas\, TX\, 75204\, United States
ATTACH;FMTTYPE=image/png:https://westvillagedallas.com/wp-content/uploads/2018/02/Cardio-Dance-Party-at-Lorna-Jane-West-Village.png
END:VEVENT
END:VCALENDAR