BEGIN:VCALENDAR
VERSION:2.0
PRODID:-//West Village - ECPv4.6//NONSGML v1.0//EN
CALSCALE:GREGORIAN
METHOD:PUBLISH
X-WR-CALNAME:West Village
X-ORIGINAL-URL:https://westvillagedallas.com
X-WR-CALDESC:Events for West Village
BEGIN:VEVENT
DTSTART;TZID=UTC+0:20180222T183000
DTEND;TZID=UTC+0:20180222T200000
DTSTAMP:20260424T102438
CREATED:20180131T194309Z
LAST-MODIFIED:20180222T155542Z
UID:1578-1519324200-1519329600@westvillagedallas.com
SUMMARY:Cardio & Kickboxing with Fitness Ambassadors
DESCRIPTION:**UPDATE: Cancelled due to inclement weather** \nNeed to kick your workout up a notch? Head to West Village on Thursday\, February 22nd at 6:30pm for a 60 min calorie-torching kickboxing class with our very own ambassador Eve Escalante @thefitsage. The workout will take place in the West Village Courtyard\, behind Brewed+Pressed and Lorna Jane. \nCheck in begins at 6pm. Class to start promptly at 6:30p. We’ll have wonderful vendors there for post-workout goodies\, refreshments\, bites and more. Please bring water to stay hydrated! Gloves not required for this workout. \nParking available in the attached retail garage. Tickets are $15. \nFitness Ambassadors | West Village Dallas \n@dallasfitnessambassadors\n@westvillage_dallas\n#dallasfitnessambassadors \nLocation: 3700 McKinney Ave. behind Suitsupply\, Lorna Jane and Brewed + Pressed \n  \n  \n
URL:https://westvillagedallas.com/event/cardio-kickboxing-with-fitness-ambassadors/
LOCATION:3699 McKinney Ave. #305\, Dallas\, TX\, 75204\, United States
ATTACH;FMTTYPE=image/jpeg:https://westvillagedallas.com/wp-content/uploads/2018/01/WV-kickboxing-copy.jpg
END:VEVENT
END:VCALENDAR