BEGIN:VCALENDAR
VERSION:2.0
PRODID:-//West Village - ECPv4.6//NONSGML v1.0//EN
CALSCALE:GREGORIAN
METHOD:PUBLISH
X-WR-CALNAME:West Village
X-ORIGINAL-URL:https://westvillagedallas.com
X-WR-CALDESC:Events for West Village
BEGIN:VEVENT
DTSTART;VALUE=DATE:20180302
DTEND;VALUE=DATE:20180311
DTSTAMP:20260424T090214
CREATED:20180301T181822Z
LAST-MODIFIED:20180301T182212Z
UID:1637-1519948800-1520812799@westvillagedallas.com
SUMMARY:India Hicks Pop-up Shop
DESCRIPTION:\n\n\n\nIndia Hicks is heading to West Village for an exclusive 10-day pop up\, beginning Friday\, March 2. \nDon’t miss Nicole Pacich as she brings her retail savvy to Dallas with the India Hicks collection. Check out home decor\, accessories\, and more\, all with the effortless beachy vibe you love. Plus you can sample Nicole’s natural skincare line\, Unexpected Beauty\, with special promotional offers at the grand opening on March 2.  \nThe store’s creative design is by Studio Shiraz Ansari. \n\n\n\n\nWhen \n\nFriday\, March 2 – Sunday\, March 11 \nMonday – Thursday: 11am – 6 pm \nFriday – Saturday: 11am – 7 pm \nSundays: 11am – 6 pm\n\n\n\n\n\n\n\n\n\n
URL:https://westvillagedallas.com/event/india-hicks-pop-up-shop/
LOCATION:3699 McKinney Ave. #305\, Dallas\, TX\, 75204\, United States
ATTACH;FMTTYPE=image/jpeg:https://westvillagedallas.com/wp-content/uploads/2018/03/white-min.jpg
END:VEVENT
END:VCALENDAR