BEGIN:VCALENDAR
VERSION:2.0
PRODID:-//West Village - ECPv4.6//NONSGML v1.0//EN
CALSCALE:GREGORIAN
METHOD:PUBLISH
X-WR-CALNAME:West Village
X-ORIGINAL-URL:https://westvillagedallas.com
X-WR-CALDESC:Events for West Village
BEGIN:VEVENT
DTSTART;TZID=UTC+0:20180329T180000
DTEND;TZID=UTC+0:20180329T210000
DTSTAMP:20260424T073346
CREATED:20180319T145124Z
LAST-MODIFIED:20180319T145240Z
UID:1650-1522346400-1522357200@westvillagedallas.com
SUMMARY:Fresh Faces of Fashion 2018
DESCRIPTION:On March 29th\, Modern Luxury Dallas\, West Village\, and Park Cities Cosmetic Surgery will host the 12th annual Fresh Faces of Fashion benefitting The Bridge Homeless Recovery Center. One of the most highly anticipated events of the year\, this celebration salutes successful\, trendsetting and philanthropic Dallas men and women whose chic fashion sense is matched only by their dedication to community and philanthropic endeavors. This year’s class includes Bela Cooley\, Brittany Grignon\, Dr. Michael Lee\, Christian McDuffey\, Noble Madu\, Paige Martindell\, Anais Nussbaumer\, Brittney Stracener\, Brock Travis\, Andrew Welker\, and Tia Williams. This year’s host is the fabulous Jenna Owens of Kidd Kraddick in the Morning. \nJoin us for the cocktail party and fashion show hosted in West Village. Enjoy cocktails by El Mayor Tequila\, bites by West Village restaurants\, entertainment by Jordan Kahn Orchestra\, and many more surprises. VIP ticket includes access to after party. All ticket sales benefit The Bridge Homeless Recovery Center. \nTickets available here \n
URL:https://westvillagedallas.com/event/fresh-faces-of-fashion-2018/
LOCATION:3699 McKinney Ave. #305\, Dallas\, TX\, 75204\, United States
ATTACH;FMTTYPE=image/jpeg:https://westvillagedallas.com/wp-content/uploads/2018/03/Fresh-Faces.jpg
END:VEVENT
END:VCALENDAR