BEGIN:VCALENDAR
VERSION:2.0
PRODID:-//West Village - ECPv4.6//NONSGML v1.0//EN
CALSCALE:GREGORIAN
METHOD:PUBLISH
X-WR-CALNAME:West Village
X-ORIGINAL-URL:https://westvillagedallas.com
X-WR-CALDESC:Events for West Village
BEGIN:VEVENT
DTSTART;TZID=UTC+0:20180420T120000
DTEND;TZID=UTC+0:20180429T200000
DTSTAMP:20260424T073430
CREATED:20180418T195213Z
LAST-MODIFIED:20180418T200421Z
UID:1709-1524225600-1525032000@westvillagedallas.com
SUMMARY:ShoePlug Pop-up
DESCRIPTION:ShoePlug is back! Popping up in West Village again for a limited time\, an upscale sneaker and street wear experience. Offering the most exclusive brands in the market\, the walls are filled with limited edition Nikes\, Supreme New York and Kanye West’s Adidas Yeezys. Innovative installations exhibited throughout the Pop-Up further highlight the experience\, featuring the year’s most coveted collaborations\, such as the Off-White Nike and Sean Wotherspoon 97/1. \nTaking the ShoePlug experience to the next level…on 4.20 the Pop Up kicks off by debuting The Creator Lab\, a space for creating your very own custom kicks. \nThe Creator Lab will offer consumers a unique experience to purchase and customize a pair of Air Force 1 sneakers\, creating a one of a kind. Onsite design elements can include deconstruction\, stencils\, airbrush\, and an array of appliques at their fingertips. \nIf you are not in Dallas April 20-29th\, make plans to get here. \n
URL:https://westvillagedallas.com/event/shoeplug-pop-up/
LOCATION:3699 McKinney Ave. #302\, Dallas\, TX\, 75204\, United States
ATTACH;FMTTYPE=image/jpeg:https://westvillagedallas.com/wp-content/uploads/2018/04/ShoePlug_2.jpg
END:VEVENT
END:VCALENDAR