BEGIN:VCALENDAR
VERSION:2.0
PRODID:-//West Village - ECPv4.6//NONSGML v1.0//EN
CALSCALE:GREGORIAN
METHOD:PUBLISH
X-WR-CALNAME:West Village
X-ORIGINAL-URL:https://westvillagedallas.com
X-WR-CALDESC:Events for West Village
BEGIN:VEVENT
DTSTART;TZID=UTC+0:20180802T173000
DTEND;TZID=UTC+0:20180802T193000
DTSTAMP:20260424T013816
CREATED:20180727T143002Z
LAST-MODIFIED:20180727T144153Z
UID:1770-1533231000-1533238200@westvillagedallas.com
SUMMARY:Taittinger Patio Party at Cru Wine Bar
DESCRIPTION:Start your Thursday night right by sipping Taittinger bubbles! Relax on Cru’s patio and enjoy a tasting of 3 champagnes perfectly paired with chef’s paltes. \nDomaine Carneros \nTaittinger La Française \nTaittinger Rosé \nCost $35 \nAbout Taittinger: \nTaittinger is a French wine family who are famous producers of Champagne. The estate is headed by Pierre-Emmanuel Taittinger\, a member of the consultative committee of the Banque de France. \nPlease call 214.526.9463 to reserve your spot. \n
URL:https://westvillagedallas.com/event/taittinger-patio-party-at-cru-wine-bar/
LOCATION:3699 McKinney Ave. #107\, Dallas\, TX\, 75204\, United States
ATTACH;FMTTYPE=image/png:https://westvillagedallas.com/wp-content/uploads/2018/07/Screen-Shot-2018-07-27-at-9.27.01-AM.png
END:VEVENT
END:VCALENDAR