BEGIN:VCALENDAR
VERSION:2.0
PRODID:-//West Village - ECPv4.6//NONSGML v1.0//EN
CALSCALE:GREGORIAN
METHOD:PUBLISH
X-WR-CALNAME:West Village
X-ORIGINAL-URL:https://westvillagedallas.com
X-WR-CALDESC:Events for West Village
BEGIN:VEVENT
DTSTART;VALUE=DATE:20180809
DTEND;VALUE=DATE:20180824
DTSTAMP:20260424T014344
CREATED:20180727T184347Z
LAST-MODIFIED:20180727T184347Z
UID:1795-1533772800-1535155199@westvillagedallas.com
SUMMARY:Heirloom Tomato Festival at Crú Wine Bar
DESCRIPTION:Join Crú Wine Bar for the peak tomato season to enjoy the robust flavor and gemstone colors of juicy\, fresh of the vine heirloom tomatoes. \nMenu: \n\nHeirloom tomato & goat cheese bruschetta featuring olive citrus tapenade & evoo $10\nVine ripened tomatoes & burrata cheese $12\nHeirloom tomato & lump crab salad $14\n\nPlease call 214.526.9463 to reserve your spot. \n
URL:https://westvillagedallas.com/event/heirloom-tomato-festival-at-cru-wine-bar/
LOCATION:3699 McKinney Ave. #107\, Dallas\, TX\, 75204\, United States
ATTACH;FMTTYPE=image/png:https://westvillagedallas.com/wp-content/uploads/2018/07/Screen-Shot-2018-07-27-at-1.36.56-PM.png
END:VEVENT
BEGIN:VEVENT
DTSTART;TZID=UTC+0:20180824T080000
DTEND;TZID=UTC+0:20180826T170000
DTSTAMP:20260424T014344
CREATED:20180815T185522Z
LAST-MODIFIED:20180815T191134Z
UID:1804-1535097600-1535302800@westvillagedallas.com
SUMMARY:Sample Sale
DESCRIPTION:Visit our Sample Sale pop-up located at Suite #407\, between Pitaya and Demerara. Take advantage of deals from the following tenants including: \n\nAvalon Salon & Spa\nBAM Beauty Bar\nDemerara\nFlower Gals Co.\nfrancesca’s\nKendra Scott\nLorna Jane\nMiniLuxe\nMyx Blend Bar\nNicole Kwon Concept Store\nPitaya\nQ Custom Clothier\nRye 51\nShopSeptember\nSoulCycle\nSunglass Hut\ny & i clothing boutique\n\nHours of operation: \nAugust 24: 4pm – 7pm \nAugust 25: 11am – 7pm \nAugust 26: 12pm – 5pm \n  \n
URL:https://westvillagedallas.com/event/sample-sale/
LOCATION:3699 McKinney Ave. #305\, Dallas\, TX\, 75204\, United States
ATTACH;FMTTYPE=image/jpeg:https://westvillagedallas.com/wp-content/uploads/2018/08/West-Village_sample-sale-4.24-4.26-min.jpg
END:VEVENT
END:VCALENDAR