BEGIN:VCALENDAR
VERSION:2.0
PRODID:-//West Village - ECPv4.6//NONSGML v1.0//EN
CALSCALE:GREGORIAN
METHOD:PUBLISH
X-WR-CALNAME:West Village
X-ORIGINAL-URL:https://westvillagedallas.com
X-WR-CALDESC:Events for West Village
BEGIN:VEVENT
DTSTART;TZID=UTC+0:20180912T180000
DTEND;TZID=UTC+0:20180912T190000
DTSTAMP:20260423T234919
CREATED:20180727T150746Z
LAST-MODIFIED:20180727T150746Z
UID:1789-1536775200-1536778800@westvillagedallas.com
SUMMARY:Wednesday Wine Chat - Caymus Vineyards
DESCRIPTION:Join Crú Wine Bar for a fun and casual wine chat series. Each session fill focus on exploring a special theme around a tasting of 4 different glasses of wine paired with Chef’s small plates. \nAbout Caymus Vineyards: \nCaymus Vineyards is a Napa Valley winery owned by Chuck Wagner and his family. In 1972\, Chuck Wagner started Caymus Vineyards with his parents\, Charlie and Lorna\, with a bold plan and an uncharted future. Caymus produces two Cabernets Sauvignons – a Napa Valley and the venerable Special Selection. \nCost $30 \nPlease call 214.526.9463 to reserve your spot. \n
URL:https://westvillagedallas.com/event/wednesday-wine-chat-caymus-vineyards/
LOCATION:3699 McKinney Ave. #107\, Dallas\, TX\, 75204\, United States
ATTACH;FMTTYPE=image/png:https://westvillagedallas.com/wp-content/uploads/2018/07/Screen-Shot-2018-07-27-at-10.06.38-AM.png
END:VEVENT
END:VCALENDAR