BEGIN:VCALENDAR
VERSION:2.0
PRODID:-//West Village - ECPv4.6//NONSGML v1.0//EN
CALSCALE:GREGORIAN
METHOD:PUBLISH
X-WR-CALNAME:West Village
X-ORIGINAL-URL:https://westvillagedallas.com
X-WR-CALDESC:Events for West Village
BEGIN:VEVENT
DTSTART;TZID=UTC+0:20190904T180000
DTEND;TZID=UTC+0:20190904T210000
DTSTAMP:20260423T032803
CREATED:20190903T180512Z
LAST-MODIFIED:20190903T180512Z
UID:2116-1567620000-1567630800@westvillagedallas.com
SUMMARY:First Wednesday
DESCRIPTION:West Village invites you to First Wednesdays\, our neighborhood block party held every first Wednesday of the month! This month’s theme is End Of Summer Cool-Off. Come beat the heat with goodies from Teasom\, Peroni\, Topo Chico\, Imperfect Produce\, and Beyond Meat\, plus a photo booth\, local art + craft vendors\, food offerings\, live music\, dog treats\, art\, activities\, extended shopping hours\, and more. \nWednesday\, September 4 from 6–9pm. \nIt’s completely free to attend. Bring your friends\, family\, and pets and enjoy all West Village has to offer. \nWhat To Expect:\n→ Local Creative & Artisan Vendors curated by Decent\n→ Swag and other goodies from Imperfect Produce\, Peroni Nastro Azzurro\, Topo Chico USA\n→ Live Music by 13th Floor Music – Armstead\n→ Photo Booth from The Photo Bus DFW\n→ Food\n→ Dog treats and goodies from Looie\n→ Extended shopping hours from select retailers in West Village\n→ Half Price bottles of wine at Village Burger Bar\n→ Free to attend\n→ Plenty of free parking\n→ Dog-friendly (we have treats\, shade\, and water bowls) \nLocation:\nCome join us in North Alley\, between francesca’s and shop y&i\, across from Malai Kitchen. \nWest Village is located in the heart of Uptown Dallas at 3699 McKinney Ave\, Dallas\, TX 75204 (off McKinney Ave between Lemmon and Blackburn). Directions here: goo.gl/maps/zrW5fuDkEKF2 \nSponsored by Looie — Looie delivers fresh-cut pet grass right to your door via a subscription service\, letting your dog do his doo diligence whenever the time is right. http://mylooie.com \nSponsored by Imperfect Produce — Imperfect delivers ugly produce for about 30% less than grocery store prices. http://imperfectproduce.com \nApplications for vendors are open. You can find more information and apply here: https://decentcollective.com/ \n
URL:https://westvillagedallas.com/event/first-wednesday-5/
ATTACH;FMTTYPE=image/jpeg:https://westvillagedallas.com/wp-content/uploads/2019/04/First-Wed.jpg
END:VEVENT
END:VCALENDAR