BEGIN:VCALENDAR
VERSION:2.0
PRODID:-//West Village - ECPv4.6//NONSGML v1.0//EN
CALSCALE:GREGORIAN
METHOD:PUBLISH
X-WR-CALNAME:West Village
X-ORIGINAL-URL:https://westvillagedallas.com
X-WR-CALDESC:Events for West Village
BEGIN:VEVENT
DTSTART;VALUE=DATE:20190905
DTEND;VALUE=DATE:20190913
DTSTAMP:20260423T032950
CREATED:20190905T181651Z
LAST-MODIFIED:20190905T181651Z
UID:2118-1567641600-1568419199@westvillagedallas.com
SUMMARY:Brooks Brothers Sale
DESCRIPTION:Going on now \n
URL:https://westvillagedallas.com/event/brooks-brothers-sale/
LOCATION:3636 McKinney Ave #100\, Dallas\, TX\, 75204\, United States
ATTACH;FMTTYPE=image/jpeg:https://westvillagedallas.com/wp-content/uploads/2019/09/Brooks_Brothers_Going_on_now_800x800_EN.jpg
END:VEVENT
BEGIN:VEVENT
DTSTART;TZID=UTC+0:20190912T173000
DTEND;TZID=UTC+0:20190912T193000
DTSTAMP:20260423T032950
CREATED:20190827T211251Z
LAST-MODIFIED:20190827T211251Z
UID:2106-1568309400-1568316600@westvillagedallas.com
SUMMARY:Clicquot in the Sun: Champagne Party
DESCRIPTION:Join Crú Wine Bar for their Clicquot in the Sun Champagne Party on Thursday\, September 12th from 5:30 – 7:30pm. Start your Thursday night right by sipping Veuve Clicquot! Experience sumptuous bubbles and enjoy a premier tasting of 3 champagnes perfectly paired with Chef’s small plates.  \nVeuve Clicquot Yellow Label\nVeuve Clicquot Brut Rosé\nVeuve Clicquot Demi-Sec \nPlease call 214.526.9463 to reserve your spot \n
URL:https://westvillagedallas.com/event/clicquot-in-the-sun-champagne-party/
LOCATION:3699 McKinney Ave. #107\, Dallas\, TX\, 75204\, United States
ATTACH;FMTTYPE=image/png:https://westvillagedallas.com/wp-content/uploads/2019/08/Veuve-Clicquot-party.png
END:VEVENT
END:VCALENDAR