BEGIN:VCALENDAR
VERSION:2.0
PRODID:-//West Village - ECPv4.6//NONSGML v1.0//EN
CALSCALE:GREGORIAN
METHOD:PUBLISH
X-WR-CALNAME:West Village
X-ORIGINAL-URL:https://westvillagedallas.com
X-WR-CALDESC:Events for West Village
BEGIN:VEVENT
DTSTART;VALUE=DATE:20190923
DTEND;VALUE=DATE:20190926
DTSTAMP:20260423T033040
CREATED:20190923T160951Z
LAST-MODIFIED:20190923T161415Z
UID:2134-1569196800-1569542399@westvillagedallas.com
SUMMARY:Brooks Brothers Sale
DESCRIPTION:
URL:https://westvillagedallas.com/event/brooks-brothers-sale-2/
LOCATION:3636 McKinney Ave #100\, Dallas\, TX\, 75204\, United States
ATTACH;FMTTYPE=image/jpeg:https://westvillagedallas.com/wp-content/uploads/2019/09/Brooks_Brothers_Going_on_now_800x800_EN-1.jpg
END:VEVENT
END:VCALENDAR