BEGIN:VCALENDAR
VERSION:2.0
PRODID:-//West Village - ECPv4.6//NONSGML v1.0//EN
CALSCALE:GREGORIAN
METHOD:PUBLISH
X-WR-CALNAME:West Village
X-ORIGINAL-URL:https://westvillagedallas.com
X-WR-CALDESC:Events for West Village
BEGIN:VEVENT
DTSTART;VALUE=DATE:20191001
DTEND;VALUE=DATE:20191021
DTSTAMP:20260423T032902
CREATED:20191001T155216Z
LAST-MODIFIED:20191001T155216Z
UID:2175-1569888000-1571702399@westvillagedallas.com
SUMMARY:Allen Edmonds Sale
DESCRIPTION:
URL:https://westvillagedallas.com/event/allen-edmonds-sale/
LOCATION:3699 McKinney Ave #314\, Dallas\, 75204\, United States
ATTACH;FMTTYPE=image/png:https://westvillagedallas.com/wp-content/uploads/2019/10/2019_RDA_Catalog_Cover.png
END:VEVENT
BEGIN:VEVENT
DTSTART;VALUE=DATE:20191008
DTEND;VALUE=DATE:20191014
DTSTAMP:20260423T032902
CREATED:20191008T152043Z
LAST-MODIFIED:20191008T152043Z
UID:2204-1570492800-1571097599@westvillagedallas.com
SUMMARY:Brooks Brothers Fall Sale
DESCRIPTION:
URL:https://westvillagedallas.com/event/brooks-brothers-fall-sale/
ATTACH;FMTTYPE=image/jpeg:https://westvillagedallas.com/wp-content/uploads/2019/10/Brooks_Brothers_Fall_Sale_800x800_EN.jpg
END:VEVENT
BEGIN:VEVENT
DTSTART;TZID=UTC+0:20191009T180000
DTEND;TZID=UTC+0:20191009T223000
DTSTAMP:20260423T032902
CREATED:20191001T170847Z
LAST-MODIFIED:20191001T170847Z
UID:2179-1570644000-1570660200@westvillagedallas.com
SUMMARY:Movie Night: Pitch Perfect
DESCRIPTION:Join us for our Movie Night (between MiCocina and Magnolia Theatre). Enjoy a free screening of Pitch Perfect with live entertainment before the movie. Please bring your own blankets and chairs to enjoy the movie. West Village’s restaurants will provide cash bar and snacks will be available for purchase. Please be so kind and do not bring outside food or drinks. \nLive entertainment featuring Mitchell Ferguson starts at 6 pm and the movie begins shortly after sundown. \n
URL:https://westvillagedallas.com/event/movie-night-pitch-perfect/
LOCATION:3699 McKinney Avenue\, Dallas\, TX\, 75204\, United States
ATTACH;FMTTYPE=image/jpeg:https://westvillagedallas.com/wp-content/uploads/2019/10/Ptich-Perfect-copy.jpg
END:VEVENT
END:VCALENDAR