BEGIN:VCALENDAR
VERSION:2.0
PRODID:-//West Village - ECPv4.6//NONSGML v1.0//EN
CALSCALE:GREGORIAN
METHOD:PUBLISH
X-WR-CALNAME:West Village
X-ORIGINAL-URL:https://westvillagedallas.com
X-WR-CALDESC:Events for West Village
BEGIN:VEVENT
DTSTART;VALUE=DATE:20191001
DTEND;VALUE=DATE:20191021
DTSTAMP:20260423T013720
CREATED:20191001T155216Z
LAST-MODIFIED:20191001T155216Z
UID:2175-1569888000-1571702399@westvillagedallas.com
SUMMARY:Allen Edmonds Sale
DESCRIPTION:
URL:https://westvillagedallas.com/event/allen-edmonds-sale/
LOCATION:3699 McKinney Ave #314\, Dallas\, 75204\, United States
ATTACH;FMTTYPE=image/png:https://westvillagedallas.com/wp-content/uploads/2019/10/2019_RDA_Catalog_Cover.png
END:VEVENT
BEGIN:VEVENT
DTSTART;VALUE=DATE:20191017
DTEND;VALUE=DATE:20191116
DTSTAMP:20260423T013720
CREATED:20191017T183823Z
LAST-MODIFIED:20191017T183823Z
UID:2216-1571270400-1573948799@westvillagedallas.com
SUMMARY:Brooks Brothers - One Warm Coat
DESCRIPTION:Give a Coat | Share the Warmth \nDonate your gently worn coat here or at any Brooks Brothers store and help an individual in need. \nNow through November 16\,2019 \nBrooks Brothers is proud to partner with One Warm Coat. \n
URL:https://westvillagedallas.com/event/brooks-brothers-one-warm-coat/
LOCATION:3636 McKinney Ave #100\, Dallas\, TX\, 75204\, United States
ATTACH;FMTTYPE=image/jpeg:https://westvillagedallas.com/wp-content/uploads/2019/10/Brooks_Brothers_One_Warm_Coat_800x800_EN.jpg
END:VEVENT
BEGIN:VEVENT
DTSTART;TZID=UTC+0:20191017T173000
DTEND;TZID=UTC+0:20191017T203000
DTSTAMP:20260423T013720
CREATED:20191001T150859Z
LAST-MODIFIED:20191001T175910Z
UID:2148-1571333400-1571344200@westvillagedallas.com
SUMMARY:South Alley Sounds - Mitchell Ferguson
DESCRIPTION:Introducing South Alley Sounds\, our new live music series! Join us on Thursdays in October and November for tunes and beverages. We have partnered with 13th Floor Music to provide a great line-up of talented musicians to play in our South Alley (located between Magnolia Theatre and Mi Cocina) from 5:30 – 8:30pm. See you there! \nHere’s the line-up:\n10/3 – Ryan Berg\n10/10 – Jordan Cain & Friends\n10/17 – Mitchell Ferguson\n11/7 – BJ Stricker\n11/14 – Danni & Kris\n11/21 – DJ Jesse Koo \n
URL:https://westvillagedallas.com/event/south-alley-sounds-bj-stricker/
LOCATION:3699 McKinney Avenue\, Dallas\, TX\, 75204\, United States
ATTACH;FMTTYPE=image/jpeg:https://westvillagedallas.com/wp-content/uploads/2019/10/West-Village-South-Alley-Sounds-min.jpg
END:VEVENT
END:VCALENDAR