BEGIN:VCALENDAR
VERSION:2.0
PRODID:-//West Village - ECPv4.6//NONSGML v1.0//EN
CALSCALE:GREGORIAN
METHOD:PUBLISH
X-WR-CALNAME:West Village
X-ORIGINAL-URL:https://westvillagedallas.com
X-WR-CALDESC:Events for West Village
BEGIN:VEVENT
DTSTART;VALUE=DATE:20191017
DTEND;VALUE=DATE:20191116
DTSTAMP:20260423T000201
CREATED:20191017T183823Z
LAST-MODIFIED:20191017T183823Z
UID:2216-1571270400-1573948799@westvillagedallas.com
SUMMARY:Brooks Brothers - One Warm Coat
DESCRIPTION:Give a Coat | Share the Warmth \nDonate your gently worn coat here or at any Brooks Brothers store and help an individual in need. \nNow through November 16\,2019 \nBrooks Brothers is proud to partner with One Warm Coat. \n
URL:https://westvillagedallas.com/event/brooks-brothers-one-warm-coat/
LOCATION:3636 McKinney Ave #100\, Dallas\, TX\, 75204\, United States
ATTACH;FMTTYPE=image/jpeg:https://westvillagedallas.com/wp-content/uploads/2019/10/Brooks_Brothers_One_Warm_Coat_800x800_EN.jpg
END:VEVENT
BEGIN:VEVENT
DTSTART;VALUE=DATE:20191108
DTEND;VALUE=DATE:20191118
DTSTAMP:20260423T000201
CREATED:20191111T151002Z
LAST-MODIFIED:20191111T151414Z
UID:2392-1573171200-1574121599@westvillagedallas.com
SUMMARY:Brooks Brothers Mid-Season SALE
DESCRIPTION:Up to 40% Off* \nStorewide Savings  \n*See individual offers that vary by category. Select styles. Other exclusions apply. Please see a sales associate for details. \n
URL:https://westvillagedallas.com/event/2392/
LOCATION:3636 McKinney Ave #100\, Dallas\, TX\, 75204\, United States
ATTACH;FMTTYPE=image/jpeg:https://westvillagedallas.com/wp-content/uploads/2019/11/Brooks_Brothers_Mid_Season_Sale_800x800_EN.jpg
END:VEVENT
BEGIN:VEVENT
DTSTART;VALUE=DATE:20191113
DTEND;VALUE=DATE:20191113
DTSTAMP:20260423T000201
CREATED:20191113T160449Z
LAST-MODIFIED:20191113T183821Z
UID:2401-1573603200-1573689599@westvillagedallas.com
SUMMARY:Brooks Brothers Sale - TODAY ONLY
DESCRIPTION:Today Only \n40% Off* \nMen’s and Women’s Outerwear \n
URL:https://westvillagedallas.com/event/brooks-brothers-sale-today-only/
LOCATION:TX
ATTACH;FMTTYPE=image/jpeg:https://westvillagedallas.com/wp-content/uploads/2019/11/Brooks_Brothers_Today_Only_800x800_EN.jpg
END:VEVENT
BEGIN:VEVENT
DTSTART;TZID=UTC+0:20191113T180000
DTEND;TZID=UTC+0:20191113T200000
DTSTAMP:20260423T000201
CREATED:20191024T211600Z
LAST-MODIFIED:20191024T211600Z
UID:2222-1573668000-1573675200@westvillagedallas.com
SUMMARY:It's Fall Y'all Block Party
DESCRIPTION:We can’t wait to celebrate the season with you! \nJoin us Wednesday\, November 13\, from 6-8 pm for It’s Fall Y’all\, hosted by West Village & CultureMap Dallas. \nIt’s going to be awesome. Here’s why: \n– You can sip refreshing beverages from Patron Tequila\, Peroni and Topo Chico\n– You can savor bites from your favorite West Village restaurants\n– Check out fresh fall looks from West Village retailers\n– And get pampered in our interactive beauty lounges\n– Tickets are complimentary\, but space is limited. RSVP now to reserve your spot. \nAnd because it’s the season of giving\, guests are encouraged to bring a canned good or make a monetary donation for our partners at the North Texas Food Bank. \nThis event is brought to you by CultureMap\, West Village\, Patron\, Peroni\, Topo Chico\, and CatalyXe Experiential. Guests must be 21. Please bring your ID. \n#CMFallYall \nPARTICIPATING RESTAURANTS \nBisous Bisous Patisserie | SkinnyFATS | Baboush | Public School 214 | Namo | Pōk The Raw Bar | Eureka | PopFactory | Brewed+Pressed | SushiZushi | Teasom | Paciugo Gelato \nFEATURED RETAILERS \nKendra Scott | Modern Citizen | Planet Blue | MYX Blend Bar | The Scent Room | Soul Cycle | BAM | Avalon | District Climb | Abi Ferrin | Allen Edmonds | Mizzen+Main | MiniLuxe | Face Haus | y & I clothing boutique | Nickel and Suede | 18/8 | City Naturals \nSPECIAL THANKS TO \nBeautiful Event Rentals\, Smilebooth Texas and Balloon Therapy \n
URL:https://westvillagedallas.com/event/its-fall-yall-block-party/
LOCATION:TX
ATTACH;FMTTYPE=image/png:https://westvillagedallas.com/wp-content/uploads/2019/10/Screen-Shot-2019-10-24-at-4.11.46-PM.png
END:VEVENT
END:VCALENDAR