BEGIN:VCALENDAR
VERSION:2.0
PRODID:-//West Village - ECPv4.6//NONSGML v1.0//EN
CALSCALE:GREGORIAN
METHOD:PUBLISH
X-WR-CALNAME:West Village
X-ORIGINAL-URL:https://westvillagedallas.com
X-WR-CALDESC:Events for West Village
BEGIN:VEVENT
DTSTART;VALUE=DATE:20200106
DTEND;VALUE=DATE:20200124
DTSTAMP:20260422T222725
CREATED:20200108T162537Z
LAST-MODIFIED:20200114T214648Z
UID:2434-1578268800-1579910399@westvillagedallas.com
SUMMARY:Brooks Brothers Winter Sale
DESCRIPTION:
URL:https://westvillagedallas.com/event/brooks-brothers-winter-sale/
LOCATION:3636 McKinney Ave #100\, Dallas\, TX\, 75204\, United States
ATTACH;FMTTYPE=image/jpeg:https://westvillagedallas.com/wp-content/uploads/2020/01/Brooks_Brothers_Winter_Sale_800x800_EN.jpg
END:VEVENT
END:VCALENDAR