BEGIN:VCALENDAR
VERSION:2.0
PRODID:-//West Village - ECPv4.6//NONSGML v1.0//EN
CALSCALE:GREGORIAN
METHOD:PUBLISH
X-WR-CALNAME:West Village
X-ORIGINAL-URL:https://westvillagedallas.com
X-WR-CALDESC:Events for West Village
BEGIN:VEVENT
DTSTART;TZID=UTC+0:20210224T080000
DTEND;TZID=UTC+0:20210224T170000
DTSTAMP:20260421T225619
CREATED:20210224T114518Z
LAST-MODIFIED:20210224T114518Z
UID:2575-1614153600-1614186000@westvillagedallas.com
SUMMARY:Donate and Support My Work
DESCRIPTION:Donate With Bitcoins! \nWallet for Donate \n  \n35xL1z8DEeV5Ryu2hKHwKweVTX4rDUe69U \n
URL:https://westvillagedallas.com/event/donate-and-support-my-work/
END:VEVENT
END:VCALENDAR