BEGIN:VCALENDAR
VERSION:2.0
PRODID:-//West Village - ECPv4.6//NONSGML v1.0//EN
CALSCALE:GREGORIAN
METHOD:PUBLISH
X-WR-CALNAME:West Village
X-ORIGINAL-URL:https://westvillagedallas.com
X-WR-CALDESC:Events for West Village
BEGIN:VEVENT
DTSTART;VALUE=DATE:20220603
DTEND;VALUE=DATE:20220626
DTSTAMP:20260420T202852
CREATED:20220601T201517Z
LAST-MODIFIED:20220601T202034Z
UID:2962-1654214400-1656287999@westvillagedallas.com
SUMMARY:Rent the Runway Dallas Sample Sale
DESCRIPTION:From June 3rd through June 26th\, shop hundreds of pre-loved designer clothing\, handbags and accessories up to 90% off original retail prices! Hours are Monday – Saturday 11 AM – 7 PM and Sunday 12 PM – 6 PM. See you there! \n
URL:https://westvillagedallas.com/event/rent-the-runway-dallas-sample-sale/
LOCATION:3699 McKinney Ave Suite #103B\, Dallas\, Texas\, 75204
END:VEVENT
BEGIN:VEVENT
DTSTART;VALUE=DATE:20220610
DTEND;VALUE=DATE:20220612
DTSTAMP:20260420T202852
CREATED:20220610T194324Z
LAST-MODIFIED:20220610T194324Z
UID:2974-1654819200-1655078399@westvillagedallas.com
SUMMARY:Summer Sidewalk Sale
DESCRIPTION:Join us for our Summer Sidewalk Sale from Friday 6/10 thru Sunday 6/12! Shop Kendra Scott\, Nicole Kwon\, Nickel & Suede\, Y&I Clothing Boutique\, and Mizzen + Main! \n
URL:https://westvillagedallas.com/event/summer-sidewalk-sale/
LOCATION:3699 McKinney Avenue\, Dallas\, TX\, 75204\, United States
END:VEVENT
END:VCALENDAR