BEGIN:VCALENDAR
VERSION:2.0
PRODID:-//West Village - ECPv4.6//NONSGML v1.0//EN
CALSCALE:GREGORIAN
METHOD:PUBLISH
X-WR-CALNAME:West Village
X-ORIGINAL-URL:https://westvillagedallas.com
X-WR-CALDESC:Events for West Village
BEGIN:VEVENT
DTSTART;VALUE=DATE:20220923
DTEND;VALUE=DATE:20221003
DTSTAMP:20260420T155949
CREATED:20220919T195645Z
LAST-MODIFIED:20220919T200622Z
UID:3042-1663891200-1664841599@westvillagedallas.com
SUMMARY:Allen Edmonds Cordovan Trunk Show
DESCRIPTION:This year’s Cordovan Trunk show includes 9 styles of shoes and 10 color choices of cordovan leather that are only available during this special event. Our Trunk show will start Sept 23rd and run through Oct 3rd. Stop by the store for a fitting and let’s talk about what styles in which colors need to be added to your wardrobe. \n
URL:https://westvillagedallas.com/event/allen-edmonds-cordovan-trunk-show/
LOCATION:3699 McKinney Ave #314\, Dallas\, 75204\, United States
ATTACH;FMTTYPE=image/png:https://westvillagedallas.com/wp-content/uploads/2022/09/Image-2.png
END:VEVENT
BEGIN:VEVENT
DTSTART;TZID=UTC+0:20220923T150000
DTEND;TZID=UTC+0:20220923T190000
DTSTAMP:20260420T155949
CREATED:20220921T191259Z
LAST-MODIFIED:20220921T215325Z
UID:3079-1663945200-1663959600@westvillagedallas.com
SUMMARY:Link x Lou + Kittenish Pop-Up
DESCRIPTION:Link x Lou is popping up at Kittenish on September 23rd from 3PM to 7Pm! Use the link below to book your appointment! \n
URL:https://westvillagedallas.com/event/link-x-lou-kittenish-pop-up/
ATTACH;FMTTYPE=image/jpeg:https://westvillagedallas.com/wp-content/uploads/2022/09/IMG_2232.jpg
END:VEVENT
BEGIN:VEVENT
DTSTART;VALUE=DATE:20220923
DTEND;VALUE=DATE:20220925
DTSTAMP:20260420T155949
CREATED:20220919T202303Z
LAST-MODIFIED:20220919T202303Z
UID:3049-1663891200-1664150399@westvillagedallas.com
SUMMARY:y & i boutique SMU Family Shopping Event
DESCRIPTION:Join y & i clothing boutique for a SMU Family Shopping Event from 9/23 – 9/25! Sip\, shop and save 15% off your purchase all weekend long! \nFriday| Villo & Co Jewelry Pop-Up from 10:00AM – 5:00PM \nSaturday| Nikki Smith Permanent Jewelry 10:00AM – 5:00PM \n
URL:https://westvillagedallas.com/event/y-i-boutique-smu-family-shopping-event/
LOCATION:3699 McKinney Avenue Suite #411\, Dallas\, Texas\, 75204
ATTACH;FMTTYPE=image/png:https://westvillagedallas.com/wp-content/uploads/2022/09/image001.png
END:VEVENT
END:VCALENDAR