BEGIN:VCALENDAR
VERSION:2.0
PRODID:-//West Village - ECPv4.6//NONSGML v1.0//EN
CALSCALE:GREGORIAN
METHOD:PUBLISH
X-WR-CALNAME:West Village
X-ORIGINAL-URL:https://westvillagedallas.com
X-WR-CALDESC:Events for West Village
BEGIN:VEVENT
DTSTART;VALUE=DATE:20220923
DTEND;VALUE=DATE:20221003
DTSTAMP:20260420T155950
CREATED:20220919T195645Z
LAST-MODIFIED:20220919T200622Z
UID:3042-1663891200-1664841599@westvillagedallas.com
SUMMARY:Allen Edmonds Cordovan Trunk Show
DESCRIPTION:This year’s Cordovan Trunk show includes 9 styles of shoes and 10 color choices of cordovan leather that are only available during this special event. Our Trunk show will start Sept 23rd and run through Oct 3rd. Stop by the store for a fitting and let’s talk about what styles in which colors need to be added to your wardrobe. \n
URL:https://westvillagedallas.com/event/allen-edmonds-cordovan-trunk-show/
LOCATION:3699 McKinney Ave #314\, Dallas\, 75204\, United States
ATTACH;FMTTYPE=image/png:https://westvillagedallas.com/wp-content/uploads/2022/09/Image-2.png
END:VEVENT
END:VCALENDAR