BEGIN:VCALENDAR
VERSION:2.0
PRODID:-//West Village - ECPv4.6//NONSGML v1.0//EN
CALSCALE:GREGORIAN
METHOD:PUBLISH
X-WR-CALNAME:West Village
X-ORIGINAL-URL:https://westvillagedallas.com
X-WR-CALDESC:Events for West Village
BEGIN:VEVENT
DTSTART;VALUE=DATE:20220923
DTEND;VALUE=DATE:20221003
DTSTAMP:20260420T143119
CREATED:20220919T195645Z
LAST-MODIFIED:20220919T200622Z
UID:3042-1663891200-1664841599@westvillagedallas.com
SUMMARY:Allen Edmonds Cordovan Trunk Show
DESCRIPTION:This year’s Cordovan Trunk show includes 9 styles of shoes and 10 color choices of cordovan leather that are only available during this special event. Our Trunk show will start Sept 23rd and run through Oct 3rd. Stop by the store for a fitting and let’s talk about what styles in which colors need to be added to your wardrobe. \n
URL:https://westvillagedallas.com/event/allen-edmonds-cordovan-trunk-show/
LOCATION:3699 McKinney Ave #314\, Dallas\, 75204\, United States
ATTACH;FMTTYPE=image/png:https://westvillagedallas.com/wp-content/uploads/2022/09/Image-2.png
END:VEVENT
BEGIN:VEVENT
DTSTART;TZID=UTC+0:20220929T180000
DTEND;TZID=UTC+0:20220929T210000
DTSTAMP:20260420T143119
CREATED:20220919T203544Z
LAST-MODIFIED:20220919T203653Z
UID:3016-1664474400-1664485200@westvillagedallas.com
SUMMARY:Fresh Faces of Fashion
DESCRIPTION:This celebration salutes successful\, trendsetting and philanthropic Dallas men and women whose chic fashion sense are matched only by their dedication to community and innovative endeavors. Partners are given the opportunity to showcase their brand to our exclusive network and influential audience. \nModern Luxury Dallas’ favorite fall event will once again be the talk of the town when Fresh Faces of Fashion is brought back to West Village this September. The event will celebrate and highlight the 2022 class of Fresh Faces with their fingers on the pulse of creativity and the next wave of impact in our great city. \n
URL:https://westvillagedallas.com/event/fresh-faces-of-fashion-2/
LOCATION:3699 McKinney Ave. #305\, Dallas\, TX\, 75204\, United States
ATTACH;FMTTYPE=image/jpeg:https://westvillagedallas.com/wp-content/uploads/2022/09/IMG_1724.jpg
END:VEVENT
BEGIN:VEVENT
DTSTART;TZID=UTC+0:20220929T173000
DTEND;TZID=UTC+0:20220929T220000
DTSTAMP:20260420T143119
CREATED:20220921T152824Z
LAST-MODIFIED:20220921T152824Z
UID:3071-1664472600-1664488800@westvillagedallas.com
SUMMARY:Uptown Block Party (6th Annual)
DESCRIPTION:JOIN US FOR A FREE CONCERT! \nJoin Uptown Dallas Inc. for our 6th Annual Uptown Block Party featuring a free concert with Professor D\, Danni & Kris\, Russ Hewitt\, and Boomah. NBC5 TX Today’s Kristin Dickerson and Courtney Gilmore will emcee the night and you can enjoy food\, games\, photo ops\, a market\, and much more on Thursday\, September 29\, 2022 from 5:30-10:00 PM along the streets of CityPlace West Blvd. Thanks to our friends at Community Beer Co. those 21+ can get 1 free beer (while supplies last). \nAFTER PARTY \nHead over to our friends at The Rustic for the Official After Party from 10-12pm! \nKNOW BEFORE YOU GO \n\nIndividuals are encouraged to socially distance as needed and to wear masks if not vaccinated or in line for food/drink\, restrooms\, etc.\nRestrooms and hand-sanitizing stations will be located throughout the event for your use and safety.\nAttendees must be at least 21 years old to consume alcohol.\nNo large bags will be permitted.\nNo outside food or drink. Food/Drink can be purchased from one of the many nearby restaurants.\nPets are not encouraged as music is loud.\n\nPARKING \n\nRideshare is encouraged\nTake the FREE McKinney Avenue Trolley\nLimited garage parking available.\n\n
URL:https://westvillagedallas.com/event/uptown-block-party-6th-annual/
LOCATION:2950 Cityplace W Blvd\, Dallas\, TX\, 75204
ATTACH;FMTTYPE=image/png:https://westvillagedallas.com/wp-content/uploads/2022/09/Graphics-BP2022-NEW-Social_News-Feed.png
END:VEVENT
END:VCALENDAR