BEGIN:VCALENDAR
VERSION:2.0
PRODID:-//West Village - ECPv4.6//NONSGML v1.0//EN
CALSCALE:GREGORIAN
METHOD:PUBLISH
X-WR-CALNAME:West Village
X-ORIGINAL-URL:https://westvillagedallas.com
X-WR-CALDESC:Events for West Village
BEGIN:VEVENT
DTSTART;VALUE=DATE:20221019
DTEND;VALUE=DATE:20221019
DTSTAMP:20260420T143053
CREATED:20221003T213726Z
LAST-MODIFIED:20221003T213726Z
UID:3095-1666137600-1666223999@westvillagedallas.com
SUMMARY:Buy One Get One Free Core Service at Restore Hyper Wellness
DESCRIPTION:On October 19\, buy one core service get your second core service free! Core services include Red Light Therapy\, Cryotherapy\, Infrared Sauna and Compression Boots. \n
URL:https://westvillagedallas.com/event/buy-one-get-one-free-core-service-at-restore-hyper-wellness/
LOCATION:2970 Cityplace West Boulevard #170\, Dallas\, TX\, 75204
ATTACH;FMTTYPE=image/png:https://westvillagedallas.com/wp-content/uploads/2022/10/BOGO.png
END:VEVENT
BEGIN:VEVENT
DTSTART;TZID=UTC+0:20221019T183000
DTEND;TZID=UTC+0:20221019T193000
DTSTAMP:20260420T143053
CREATED:20221003T194129Z
LAST-MODIFIED:20221003T194129Z
UID:3091-1666204200-1666207800@westvillagedallas.com
SUMMARY:Wednesday Wine Chat - Prisoner
DESCRIPTION:Join CRÚ Wine Bar for a fun and casual wine chat series! This month’s theme explores The Prisoner with a tasting of 4 different glasses of wine paired with Chef Small Plates. \nSaldo Chenin Blanc \nBlindfold Blanc de Noir \nUnshackled Cabernet Sauvignon \nThe Prisoner Red Blend \nCost: $40 \nPlease call 214-526-9463 \n
URL:https://westvillagedallas.com/event/wednesday-wine-chat-prisoner/
LOCATION:3699 McKinney Ave. #107\, Dallas\, TX\, 75204\, United States
ATTACH;FMTTYPE=image/jpeg:https://westvillagedallas.com/wp-content/uploads/2022/10/Cru_0888_Wine_The_Prisoner_1080x1080.jpg
END:VEVENT
END:VCALENDAR