BEGIN:VCALENDAR
VERSION:2.0
PRODID:-//West Village - ECPv4.6//NONSGML v1.0//EN
CALSCALE:GREGORIAN
METHOD:PUBLISH
X-WR-CALNAME:West Village
X-ORIGINAL-URL:https://westvillagedallas.com
X-WR-CALDESC:Events for West Village
BEGIN:VEVENT
DTSTART;TZID=UTC+0:20221028T150000
DTEND;TZID=UTC+0:20221028T190000
DTSTAMP:20260420T144903
CREATED:20221017T163145Z
LAST-MODIFIED:20221017T163145Z
UID:3149-1666969200-1666983600@westvillagedallas.com
SUMMARY:Kittenish + Link x Lou Pop Up
DESCRIPTION:Link x Lou is popping up at Kittenish on October 28 from 3PM to 7Pm! \nBook Your Appointment Here!  \n
URL:https://westvillagedallas.com/event/kittenish-link-x-lou-pop-up/
LOCATION:3699 McKinney Avenue #315\, Dallas\, TX\, 75204
ATTACH;FMTTYPE=image/png:https://westvillagedallas.com/wp-content/uploads/2022/10/Screen-Shot-2022-10-12-at-3.16.59-PM.png
END:VEVENT
BEGIN:VEVENT
DTSTART;VALUE=DATE:20221028
DTEND;VALUE=DATE:20221106
DTSTAMP:20260420T144903
CREATED:20221026T150012Z
LAST-MODIFIED:20221026T150012Z
UID:3175-1666915200-1667779199@westvillagedallas.com
SUMMARY:Shop and Save with Partners Card
DESCRIPTION:From October 28th – November 6th\, enjoy 20% off at participating stores and support The Family Place with your Partners Card! \n
URL:https://westvillagedallas.com/event/shop-and-save-with-partners-card/
LOCATION:TX
ATTACH;FMTTYPE=image/png:https://westvillagedallas.com/wp-content/uploads/2022/10/Partners-Card-2.png
END:VEVENT
END:VCALENDAR