BEGIN:VCALENDAR
VERSION:2.0
PRODID:-//West Village - ECPv4.6//NONSGML v1.0//EN
CALSCALE:GREGORIAN
METHOD:PUBLISH
X-WR-CALNAME:West Village
X-ORIGINAL-URL:https://westvillagedallas.com
X-WR-CALDESC:Events for West Village
BEGIN:VEVENT
DTSTART;VALUE=DATE:20221125
DTEND;VALUE=DATE:20221127
DTSTAMP:20260420T131044
CREATED:20221122T150441Z
LAST-MODIFIED:20221122T150441Z
UID:3273-1669334400-1669593599@westvillagedallas.com
SUMMARY:Black Friday at Gorjana
DESCRIPTION:Spend More\, Save More at gorjana.\n\n\n\nSpend $175\, Save $25 \n\n\nSpend $300\, Save $50 \n\n\nSpend $500\, Save $100 \n\n\n\n
URL:https://westvillagedallas.com/event/black-friday-at-gorjana/
LOCATION:3699 McKinney Avenue #317E\, Dallas\, TX\, 75204
ATTACH;FMTTYPE=image/jpeg:https://westvillagedallas.com/wp-content/uploads/2022/11/gorjana-new-cocktail-rings.jpg
END:VEVENT
BEGIN:VEVENT
DTSTART;VALUE=DATE:20221122
DTEND;VALUE=DATE:20221126
DTSTAMP:20260420T131044
CREATED:20221122T152116Z
LAST-MODIFIED:20221122T152116Z
UID:3277-1669075200-1669507199@westvillagedallas.com
SUMMARY:Black Friday at Jonathan Adler
DESCRIPTION:Enjoy 30% off select styles\, 15% off prints\, and 25% off everything else while shopping at Jonathan Adler! \n
URL:https://westvillagedallas.com/event/black-friday-at-jonathan-adler/
LOCATION:34700 McKinney Avenue #120\, Dallas\, TX\, 75204
ATTACH;FMTTYPE=image/jpeg:https://westvillagedallas.com/wp-content/uploads/2022/11/112222_BlackFriday_1080x1080@1x-copy.jpg
END:VEVENT
BEGIN:VEVENT
DTSTART;VALUE=DATE:20221122
DTEND;VALUE=DATE:20221127
DTSTAMP:20260420T131044
CREATED:20221121T203753Z
LAST-MODIFIED:20221121T203753Z
UID:3268-1669075200-1669593599@westvillagedallas.com
SUMMARY:Black Friday at Mizzen + Main
DESCRIPTION:Shop Black Friday at Mizzen + Main and enjoy 25% off your purchase. \n
URL:https://westvillagedallas.com/event/black-friday-at-mizzen-main/
LOCATION:3699 McKinney Avenue #407\, Dallas\, TX\, 75204
ATTACH;FMTTYPE=image/jpeg:https://westvillagedallas.com/wp-content/uploads/2022/11/Retail-Story-Card.jpg
END:VEVENT
BEGIN:VEVENT
DTSTART;VALUE=DATE:20221101
DTEND;VALUE=DATE:20221130
DTSTAMP:20260420T131044
CREATED:20221108T175045Z
LAST-MODIFIED:20221108T175045Z
UID:3245-1667260800-1669852799@westvillagedallas.com
SUMMARY:Black Friday at Rye 51
DESCRIPTION:Enjoy 25% off sitewide throughout November by using this link to receive a code! \n
URL:https://westvillagedallas.com/event/black-friday-at-rye-51/
LOCATION:3699 McKinney Avenue #310\, Dallas\, TX\, 75204
ATTACH;FMTTYPE=image/jpeg:https://westvillagedallas.com/wp-content/uploads/2022/11/Rye-51-Black-Friday-Sale.jpeg
END:VEVENT
BEGIN:VEVENT
DTSTART;VALUE=DATE:20221101
DTEND;VALUE=DATE:20221130
DTSTAMP:20260420T131044
CREATED:20221102T142542Z
LAST-MODIFIED:20221102T142542Z
UID:3190-1667260800-1669852799@westvillagedallas.com
SUMMARY:Boost Yourself Up with Face Haus
DESCRIPTION:Book any facial and get two boosts for the price of one! \n  \n
URL:https://westvillagedallas.com/event/boost-yourself-up-with-face-haus/
LOCATION:3699 McKinney Avenue # 312\, Dallas\, Texas\, 75204
ATTACH;FMTTYPE=image/jpeg:https://westvillagedallas.com/wp-content/uploads/2022/11/JPEG-Face-Haus.jpg
END:VEVENT
BEGIN:VEVENT
DTSTART;VALUE=DATE:20221101
DTEND;VALUE=DATE:20221130
DTSTAMP:20260420T131044
CREATED:20221107T215950Z
LAST-MODIFIED:20221107T215950Z
UID:3241-1667260800-1669852799@westvillagedallas.com
SUMMARY:Local's Day
DESCRIPTION:Every Tuesday at Kittenish\, Dallas Locals will enjoy 15% off their purchase! Proof of address may be required. \n
URL:https://westvillagedallas.com/event/locals-day/
LOCATION:3699 McKinney Avenue #315\, Dallas\, TX\, 75204
ATTACH;FMTTYPE=image/jpeg:https://westvillagedallas.com/wp-content/uploads/2022/11/2B86F2AD-D6BA-456E-93B1-6F2C78286961-2.jpeg
END:VEVENT
BEGIN:VEVENT
DTSTART;VALUE=DATE:20221101
DTEND;VALUE=DATE:20221130
DTSTAMP:20260420T131044
CREATED:20221117T175928Z
LAST-MODIFIED:20221117T175928Z
UID:3252-1667260800-1669852799@westvillagedallas.com
SUMMARY:Milkshakes For A Cause
DESCRIPTION:In honor of November being Youth Homeless Awareness Month\, Van Leeuwen Ice Cream shops nationwide are donating $1 from every milkshake purchased to Covenant House during November. \n  \nThe leading organization in the Americas for youth experiencing homelessness\, Covenant House has been providing housing and supportive services since 1972. Located in 34 cities across six countries\, the organization strives to transform the lives of young people and place them on a path to independence.  \n  \nNext time you stop into the West Village Van Leeuwen scoop shop this month\, turn your favorite ice cream flavor into a milkshake and know it’s going to a great cause!  \n
URL:https://westvillagedallas.com/event/milkshakes-for-a-cause/
LOCATION:3699 McKinney Avenue #101\, Dallas\, TX\, 75204
ATTACH;FMTTYPE=image/png:https://westvillagedallas.com/wp-content/uploads/2022/11/VL-Nov-2.png
END:VEVENT
BEGIN:VEVENT
DTSTART;VALUE=DATE:20221101
DTEND;VALUE=DATE:20221231
DTSTAMP:20260420T131044
CREATED:20221102T180029Z
LAST-MODIFIED:20221102T180037Z
UID:3216-1667260800-1672531199@westvillagedallas.com
SUMMARY:November to Remember
DESCRIPTION:Mendocino Farms is back this year with November to Remember. They are supporting No Kid Hungry® all month long by donating 25 cents of each November to Remember sandwich sold and are committed to making a minimum donation of $40\,000 to No Kid Hungry® this year. Here is how guests can help: \n\nOrder a November to Remember Sandwich: Every time you enjoy the ultimate hand-held taste of Thanksgiving featuring tender\, roasted turkey\, tart cranberry chutney\, and savory stuffing\, they will automatically donate $0.25 to No Kid Hungry®. A dollar can help provide 10 meals*\, so Eat Happy knowing you’ve made a difference throughout the month of November.\n\n  \n\nAdd a donation in the amount of $2\, $5\, or $10 to your online order now through 12/31. On Giving Tuesday\, 11/29\, Mendocino Farms will match every dollar donated.\n\n  \n\nDonate directly to No Kid Hungry® through their website.\n\n  \n  \n  \n  \n
URL:https://westvillagedallas.com/event/november-to-remember/
LOCATION:3700 McKinney Avenue\, Dallas\, TX\, 75204
ATTACH;FMTTYPE=image/jpeg:https://westvillagedallas.com/wp-content/uploads/2022/11/Mendocino-Farms-November-to-Remember.jpeg
END:VEVENT
BEGIN:VEVENT
DTSTART;VALUE=DATE:20221126
DTEND;VALUE=DATE:20221126
DTSTAMP:20260420T131044
CREATED:20221122T210831Z
LAST-MODIFIED:20221122T210831Z
UID:3292-1669420800-1669507199@westvillagedallas.com
SUMMARY:Small Business Saturday at Nickel and Suede
DESCRIPTION:Shop $25 leather earrings at Nickel and Suede on Small Business Saturday! \n
URL:https://westvillagedallas.com/event/small-business-saturday-at-nickel-and-suede/
LOCATION:3699 McKinney Avenue #540\, Dallas\, TX\, 75204
ATTACH;FMTTYPE=image/jpeg:https://westvillagedallas.com/wp-content/uploads/2022/11/SmallBizSatPost-logo.jpg
END:VEVENT
END:VCALENDAR