BEGIN:VCALENDAR
VERSION:2.0
PRODID:-//West Village - ECPv4.6//NONSGML v1.0//EN
CALSCALE:GREGORIAN
METHOD:PUBLISH
X-WR-CALNAME:West Village
X-ORIGINAL-URL:https://westvillagedallas.com
X-WR-CALDESC:Events for West Village
BEGIN:VEVENT
DTSTART;VALUE=DATE:20221215
DTEND;VALUE=DATE:20230113
DTSTAMP:20260420T111715
CREATED:20221215T185004Z
LAST-MODIFIED:20221215T185004Z
UID:3320-1671062400-1673654399@westvillagedallas.com
SUMMARY:Avatar Premiering at Violet Crown
DESCRIPTION:The highly anticipated new Avatar movie will premiere on December 15th at Violet Crown Cinema! Check out their website for tickets and showtimes! \n
URL:https://westvillagedallas.com/event/avatar-premiering-at-violet-crown/
LOCATION:3699 McKinney Avenue #100\, Dallas\, TX\, 75204
ATTACH;FMTTYPE=image/jpeg:https://westvillagedallas.com/wp-content/uploads/2022/12/VCD_avatarad_v3.jpg
END:VEVENT
BEGIN:VEVENT
DTSTART;VALUE=DATE:20221101
DTEND;VALUE=DATE:20221231
DTSTAMP:20260420T111715
CREATED:20221102T180029Z
LAST-MODIFIED:20221102T180037Z
UID:3216-1667260800-1672531199@westvillagedallas.com
SUMMARY:November to Remember
DESCRIPTION:Mendocino Farms is back this year with November to Remember. They are supporting No Kid Hungry® all month long by donating 25 cents of each November to Remember sandwich sold and are committed to making a minimum donation of $40\,000 to No Kid Hungry® this year. Here is how guests can help: \n\nOrder a November to Remember Sandwich: Every time you enjoy the ultimate hand-held taste of Thanksgiving featuring tender\, roasted turkey\, tart cranberry chutney\, and savory stuffing\, they will automatically donate $0.25 to No Kid Hungry®. A dollar can help provide 10 meals*\, so Eat Happy knowing you’ve made a difference throughout the month of November.\n\n  \n\nAdd a donation in the amount of $2\, $5\, or $10 to your online order now through 12/31. On Giving Tuesday\, 11/29\, Mendocino Farms will match every dollar donated.\n\n  \n\nDonate directly to No Kid Hungry® through their website.\n\n  \n  \n  \n  \n
URL:https://westvillagedallas.com/event/november-to-remember/
LOCATION:3700 McKinney Avenue\, Dallas\, TX\, 75204
ATTACH;FMTTYPE=image/jpeg:https://westvillagedallas.com/wp-content/uploads/2022/11/Mendocino-Farms-November-to-Remember.jpeg
END:VEVENT
END:VCALENDAR