BEGIN:VCALENDAR
VERSION:2.0
PRODID:-//West Village - ECPv4.6//NONSGML v1.0//EN
CALSCALE:GREGORIAN
METHOD:PUBLISH
X-WR-CALNAME:West Village
X-ORIGINAL-URL:https://westvillagedallas.com
X-WR-CALDESC:Events for West Village
BEGIN:VEVENT
DTSTART;VALUE=DATE:20230119
DTEND;VALUE=DATE:20230119
DTSTAMP:20260420T094327
CREATED:20230117T192915Z
LAST-MODIFIED:20230117T192915Z
UID:3332-1674086400-1674172799@westvillagedallas.com
SUMMARY:National Popcorn Day at Violet Crown
DESCRIPTION:Enjoy a free small popcorn with the purchase of a movie ticket to celebrate National Popcorn Day at Violet Crown! \n
URL:https://westvillagedallas.com/event/national-popcorn-day-at-violet-crown/
LOCATION:3699 McKinney Avenue #100\, Dallas\, TX\, 75204
ATTACH;FMTTYPE=image/jpeg:https://westvillagedallas.com/wp-content/uploads/2023/01/VC_freepopcorn_social.jpg
END:VEVENT
END:VCALENDAR