BEGIN:VCALENDAR
VERSION:2.0
PRODID:-//West Village - ECPv4.6//NONSGML v1.0//EN
CALSCALE:GREGORIAN
METHOD:PUBLISH
X-WR-CALNAME:West Village
X-ORIGINAL-URL:https://westvillagedallas.com
X-WR-CALDESC:Events for West Village
BEGIN:VEVENT
DTSTART;VALUE=DATE:20230124
DTEND;VALUE=DATE:20231226
DTSTAMP:20260420T082457
CREATED:20230126T183344Z
LAST-MODIFIED:20230202T185418Z
UID:3340-1674518400-1703635199@westvillagedallas.com
SUMMARY:$7 Tuesdays at Violet Crown
DESCRIPTION:Every Tuesday\, all movies are $7 all day long! \n
URL:https://westvillagedallas.com/event/7-tuesdays-at-violet-crown/
LOCATION:3699 McKinney Avenue #100\, Dallas\, TX\, 75204
ATTACH;FMTTYPE=image/jpeg:https://westvillagedallas.com/wp-content/uploads/2023/01/VC_Tuesday_forever.jpg
END:VEVENT
BEGIN:VEVENT
DTSTART;VALUE=DATE:20230210
DTEND;VALUE=DATE:20230212
DTSTAMP:20260420T082457
CREATED:20230209T000231Z
LAST-MODIFIED:20230209T000231Z
UID:3376-1675987200-1676246399@westvillagedallas.com
SUMMARY:Galentine's at Lunya
DESCRIPTION:  \nJoin us at your Dallas Bedroom for our Galentine’s and Giveaway Event! \nBe your own Valentine and treat yourself or give the gift of rest for that special someone! \nEnjoy sips and chocolate while shopping and enjoy the chance to receive up to $500 off your purchase! \n  \n  \n  \n
URL:https://westvillagedallas.com/event/galentines-at-lunya/
LOCATION:3699 McKinney Avenue #570\, Dallas\, TX\, 75204
ATTACH;FMTTYPE=image/png:https://westvillagedallas.com/wp-content/uploads/2023/02/Lunya-GDAY-website-1.png
END:VEVENT
BEGIN:VEVENT
DTSTART;VALUE=DATE:20230211
DTEND;VALUE=DATE:20230214
DTSTAMP:20260420T082457
CREATED:20230209T221929Z
LAST-MODIFIED:20230209T221929Z
UID:3397-1676073600-1676419199@westvillagedallas.com
SUMMARY:Hugos Valentine's Dinner
DESCRIPTION:Celebrate your special someone with Hugo’s chef-crafted Valentine’s dinner! Available Saturday\, February 11th – Tuesday\, February 14th\, Chef Natalio’s Valentine’s menu features a main course of fire-grilled Maine lobster tail and prime beef tenderloin in a signature coconut-lime blue ocean sauce. Each course includes a hand-selected wine pairing\, including a champagne toast with the dessert course. Reservations are strongly recommended. \n
URL:https://westvillagedallas.com/event/hugos-valentines-dinner/
LOCATION:3699 McKinney Avenue #200\, Dallas\, TX\, 75204
ATTACH;FMTTYPE=image/jpeg:https://westvillagedallas.com/wp-content/uploads/2023/02/HUGOS-Valentines-Day.jpg
END:VEVENT
BEGIN:VEVENT
DTSTART;VALUE=DATE:20230210
DTEND;VALUE=DATE:20230216
DTSTAMP:20260420T082457
CREATED:20230209T160034Z
LAST-MODIFIED:20230209T212118Z
UID:3374-1675987200-1676591999@westvillagedallas.com
SUMMARY:Violet Crown Showings Friday 2/10 - Thursday 2/16
DESCRIPTION:All Quiet on the Western Front  \nFriday 2/10 – 2:40PM\, 9:00PM \nSaturday 2/11 – 11:25AM\, 6:30PM \nSunday 2/12 – 9:00PM \nMonday 2/13 – 4:15PM \nTuesday 2/14 – 2:10PM \nWednesday 2/15 – 1:50PM \nThursday 2/16 – 8:50PM \nAll The Beauty and The Bloodshed \nFriday 2/10 – 3:40 PM \nSaturday 2/11 – 3:40PM and 9:00PM \nSunday 2/12 – 12:00PM (Open Caption)\, 3:40PM \nMonday 2/13 – 6:00PM \nTuesday 2/14 – 1:40PM \nWednesday 2/15 – 6:45PM (Open Caption) \nThursday 2/16 – 1:40PM \nAnti-Man and the Wasp: Quantumania \nThursday 2/16 – 3:00PM\, 6:30PM\, 10:00PM \nArgentina\, 1985  \nFriday 2/10 – 11:50AM \nSaturday 2/11 – 11:50AM \nSunday 2/12 – 2:50PM\, 6:35PM \nMonday 2/13 – 2:15PM \nTuesday 2/14 – 4:35PM \nWednesday 2/15 – 5:10PM \nThursday 2/16 – 5:45PM \nAvatar: Way of the Water \nFriday 2/10 – 11:15AM\, 3:00PM\, 7:10PM \nSaturday 2/11 – 11:15AM\, 3:00PM\, 7:10PM \nSunday 2/12 – 11:15AM\, 3:00PM\, 7:10PM \nMonday 2/13 – 1:50PM\, 8:15PM \nTuesday 2/14 – 1:50PM\, 8:20PM \nWednesday 2/15 – 2:00PM\, 8:25PM \nThursday – 4:30PM and 8:30PM \nClueless \nMonday 2/13 – 7:30 PM \nDecision to Leave  \nMonday 2/13 – 7:00PM \nEverything Everywhere All At Once \nFriday 2/10 – 1:50PM\, 6:00PM\, 9:45PM \nSaturday 2/11 – 1:50PM\, 6:00PM\, 9:45PM \nSunday 2/12 – 1:50PM\, 6:00PM\, 9:45PM \nMonday 2/13 – 2:00PM\, 8:50PM \nTuesday 2/14 – 6:00PM\, 9:30PM \nWednesday 2/15 – 1:40PM\, 6:00PM\, 9:45PM \nThursday 2/16 – 2:10PM\, 9:35PM \nFire of Love  \nTuesday 2/14 – 6:30pm \nKnock at the Cabin  \nFriday 2/10 – 10:45AM\, 1:15PM\, 5:00PM\, 7:35PM\, 10:10PM \nSaturday 2/11 –  10:45AM\, 1:15PM\, 5:00PM\, 7:35PM\, 10:10PM \nSunday 2/12 –  10:45AM\, 1:15PM\, 5:00PM\, 7:35PM\, 10:10PM \nMonday 2/13 – 1:20PM\, 5:15PM\, 7:45PM\, 10:15PM \nTuesday 2/14 – 4:30PM\, 7:45PM\, 10:15PM \nWednesday 2/15 – 1:20PM\, 4:15PM\, 7:40PM\, 10:15PM \nThursday 2/16 – 1:30PM\, 5:20PM\, 7:45PM\, 10:15PM \nThe Wedding Singer \nTuesday 2/14 – 7:00PM \nThe Whale \nFriday 2/10 – 11:00AM\, 3:25PM\, 6:15PM\, 9:15PM \nSaturday 2/11 – 11:00AM\, 3:25PM\, 6:15PM\, 9:15PM \nSunday 2/12 – 11:00AM\, 3:25PM\, 6:15PM\, 9:15PM \nMonday 2/13 – 1:30PM\, 5:25PM\, 10:00PM \nTuesday 2/14 – 5:30PM\, 9:10Pm \nWednesday 2/15 – 1:25PM\, 4:50PM\, 9:10PM \nThursday 2/16 – 4:00PM\, 6:45PM \nTriangle of Sadness \nFriday 2/10 – 11:25AM\, 6:30PM \nSaturday 2/11 – 2:45PM \nSunday 2/12 – 11:35AM \nMonday 2/13 – 3:45PM \nTuesday 2/14 – 1:15PM \nWednesday 2/15 – 3:45PM\, 9:40PM \nThursday 2/16 – 2:35PM \nWinnie – the – Pooh: Blood & Honey  \nWednesday 2/15 – 7:00PM \n  \n
URL:https://westvillagedallas.com/event/violet-crown-showings-210-216/
LOCATION:3699 McKinney Avenue #100\, Dallas\, TX\, 75204
ATTACH;FMTTYPE=image/png:https://westvillagedallas.com/wp-content/uploads/2023/02/vc-logo.png
END:VEVENT
END:VCALENDAR