BEGIN:VCALENDAR
VERSION:2.0
PRODID:-//West Village - ECPv4.6//NONSGML v1.0//EN
CALSCALE:GREGORIAN
METHOD:PUBLISH
X-WR-CALNAME:West Village
X-ORIGINAL-URL:https://westvillagedallas.com
X-WR-CALDESC:Events for West Village
BEGIN:VEVENT
DTSTART;VALUE=DATE:20230301
DTEND;VALUE=DATE:20231226
DTSTAMP:20260420T002022
CREATED:20230302T160313Z
LAST-MODIFIED:20230302T160313Z
UID:3465-1677628800-1703635199@westvillagedallas.com
SUMMARY:$10 off at Sweetgreen
DESCRIPTION:Receive $10 off your first digital order with this link! \n
URL:https://westvillagedallas.com/event/10-off-at-sweetgreen/
ATTACH;FMTTYPE=image/png:https://westvillagedallas.com/wp-content/uploads/2023/03/sweetgreen-10-0ff.png
END:VEVENT
BEGIN:VEVENT
DTSTART;VALUE=DATE:20230712
DTEND;VALUE=DATE:20230731
DTSTAMP:20260420T002022
CREATED:20230712T192023Z
LAST-MODIFIED:20230712T192023Z
UID:3794-1689120000-1690847999@westvillagedallas.com
SUMMARY:$5 Off at Mendocino Farms
DESCRIPTION:Enjoy $5 off online orders of $15 or more at Mendocino Farms through July 31st. \n
URL:https://westvillagedallas.com/event/5-off-at-mendocino-farms/
LOCATION:3700 McKinney Avenue\, Dallas\, TX\, 75204
ATTACH;FMTTYPE=image/jpeg:https://westvillagedallas.com/wp-content/uploads/2023/07/5off_VOUCHER_2023_DallasOLO-01.jpg
END:VEVENT
BEGIN:VEVENT
DTSTART;VALUE=DATE:20230124
DTEND;VALUE=DATE:20231226
DTSTAMP:20260420T002022
CREATED:20230126T183344Z
LAST-MODIFIED:20230202T185418Z
UID:3340-1674518400-1703635199@westvillagedallas.com
SUMMARY:$7 Tuesdays at Violet Crown
DESCRIPTION:Every Tuesday\, all movies are $7 all day long! \n
URL:https://westvillagedallas.com/event/7-tuesdays-at-violet-crown/
LOCATION:3699 McKinney Avenue #100\, Dallas\, TX\, 75204
ATTACH;FMTTYPE=image/jpeg:https://westvillagedallas.com/wp-content/uploads/2023/01/VC_Tuesday_forever.jpg
END:VEVENT
BEGIN:VEVENT
DTSTART;VALUE=DATE:20230712
DTEND;VALUE=DATE:20230724
DTSTAMP:20260420T002022
CREATED:20230717T163142Z
LAST-MODIFIED:20230717T163142Z
UID:3817-1689120000-1690243199@westvillagedallas.com
SUMMARY:Allen Edmonds Limited Drop of Randolph Bit Loafer
DESCRIPTION:For a limited time only we’re offering the latest evolution of our icon accented with genuine crocodile. \n
URL:https://westvillagedallas.com/event/allen-edmonds-limited-drop-of-randolph-bit-loafer/
LOCATION:3699 McKinney Ave #314\, Dallas\, 75204\, United States
ATTACH;FMTTYPE=image/jpeg:https://westvillagedallas.com/wp-content/uploads/2023/07/a94b8ce57d19f0afa7617270842c2099ee80848d.jpg
END:VEVENT
BEGIN:VEVENT
DTSTART;VALUE=DATE:20230710
DTEND;VALUE=DATE:20230720
DTSTAMP:20260420T002022
CREATED:20230711T174109Z
LAST-MODIFIED:20230711T174109Z
UID:3791-1688947200-1689897599@westvillagedallas.com
SUMMARY:Celebrate 20 Years with Rye 51
DESCRIPTION:Celebrate 20 years of Rye 51 by saving 20% sitewide with code CELEBRATE20. \n
URL:https://westvillagedallas.com/event/celebrate-20-years-with-rye-51/
LOCATION:3699 McKinney Avenue #310\, Dallas\, TX\, 75204
ATTACH;FMTTYPE=image/jpeg:https://westvillagedallas.com/wp-content/uploads/2023/07/rye-51-sale.jpg
END:VEVENT
BEGIN:VEVENT
DTSTART;VALUE=DATE:20230601
DTEND;VALUE=DATE:20230930
DTSTAMP:20260420T002022
CREATED:20230601T003015Z
LAST-MODIFIED:20230530T160101Z
UID:3638-1685577600-1696118399@westvillagedallas.com
SUMMARY:Face Haus Summer Series
DESCRIPTION:
URL:https://westvillagedallas.com/event/face-haus-summer-series/
LOCATION:3699 McKinney Avenue # 312\, Dallas\, Texas\, 75204
ATTACH;FMTTYPE=image/jpeg:https://westvillagedallas.com/wp-content/uploads/2023/05/FH_summerseries_clipboardsign_final_052623rt.jpg
END:VEVENT
BEGIN:VEVENT
DTSTART;TZID=UTC+0:20230224T080000
DTEND;TZID=UTC+0:20231229T170000
DTSTAMP:20260420T002022
CREATED:20230224T212616Z
LAST-MODIFIED:20230224T212616Z
UID:3433-1677225600-1703869200@westvillagedallas.com
SUMMARY:Free Ticket Friday
DESCRIPTION:Every Friday\, head over to Violet Crown Dallas’ Instagram to enter their giveaway for a free movie ticket! \n
URL:https://westvillagedallas.com/event/free-ticket-friday/
ATTACH;FMTTYPE=image/jpeg:https://westvillagedallas.com/wp-content/uploads/2023/02/VC_FTF_square_3.jpg
END:VEVENT
BEGIN:VEVENT
DTSTART;VALUE=DATE:20230501
DTEND;VALUE=DATE:20240501
DTSTAMP:20260420T002022
CREATED:20230501T162043Z
LAST-MODIFIED:20230501T162043Z
UID:3581-1682899200-1714607999@westvillagedallas.com
SUMMARY:gorjana x Baby2Baby
DESCRIPTION:gorjana is proud to announce its 2023 partnership with Baby2Baby\, a national nonprofit that provides children living in poverty with diapers\, clothing and all the basic necessities that every child deserves. Starting May 1\, gorjana will start a one-year donation program\, giving 10% of online and in-store sales of its new 14K “Mama” necklace directly to Baby2Baby. Launching just in time for Mother’s Day\, this giveback moment is the perfect opportunity to celebrate mothers while supporting children in need. gorjana plans to donate over $50\,000 to Baby2Baby. \n
URL:https://westvillagedallas.com/event/gorjana-x-baby2baby/
LOCATION:3699 McKinney Avenue #317E\, Dallas\, TX\, 75204
ATTACH;FMTTYPE=image/png:https://westvillagedallas.com/wp-content/uploads/2023/05/gorjana-1.png
END:VEVENT
BEGIN:VEVENT
DTSTART;VALUE=DATE:20230306
DTEND;VALUE=DATE:20231226
DTSTAMP:20260420T002022
CREATED:20230301T221729Z
LAST-MODIFIED:20230301T221729Z
UID:3457-1678060800-1703635199@westvillagedallas.com
SUMMARY:Tuesday Tastings a Grimaldi's
DESCRIPTION:Every Tuesday\, guests can enjoy half-off glasses and bottles of wine\, as well as glasses of sangria. Dine-in only. \n
URL:https://westvillagedallas.com/event/tuesday-tastings-a-grimaldis/
LOCATION:3636 McKinney Avenue #190\, Dallas\, TX\, 75204
ATTACH;FMTTYPE=image/jpeg:https://westvillagedallas.com/wp-content/uploads/2023/03/Grimaldis-Tuesday-Tastings.jpeg
END:VEVENT
BEGIN:VEVENT
DTSTART;VALUE=DATE:20230714
DTEND;VALUE=DATE:20230720
DTSTAMP:20260420T002022
CREATED:20230713T174234Z
LAST-MODIFIED:20230713T174234Z
UID:3798-1689292800-1689897599@westvillagedallas.com
SUMMARY:Violet Crown Weekly Showings Friday\, July 14 - Thursday\, July 20
DESCRIPTION:Asteroid City \nFriday 7/14- 11:00AM\, 2:15PM\, 6:30PM\, 8:40PM \nSaturday 7/15 – 11:00AM\, 2:15PM\, 6:30PM\, 8:40PM \nSunday 7/16 – 11:00AM\, 2:15PM\, 6:30PM\, 8:40PM \nMonday 7/17 – 2:00PM\, 6:10PM\, 8:40PM \nTuesday 7/18 – 2:00PM\, 6:10PM\, 8:40PM \nWednesday 7/19 – 2:00PM\, 6:10PM\, 8:40PM \nBarbie \nThursday 7/20 – 3:00PM\, 4:30PM\, 5:45PM\, 6:00PM\, 7:20PM\, 9:00PM\, 10:15PM \nIndiana Jones and the Dial of Destiny \nFriday 7/14 – 10:50AM\, 4:45PM\, 8:15PM \nSaturday 7/15 – 10:50AM\, 4:45PM\, 8:15PM \nSunday 7/16 – 10:50AM\, 4:45PM\, 8:15PM \nMonday 7/17 – 2:40PM\, 4:35PM\, 8:00PM \nTuesday 7/18 – 3:20PM\, 6:40PM \nWednesday 7/19 – 2:45PM\, 4:15PM\, 8:00PM \nJoy Ride \nFriday 7/14 – 1:30PM\, 3:50PM\, 6:15PM\, 9:00PM \nSaturday 7/15 – 1:30PM\, 3:50PM\, 6:15PM\, 9:00PM \nSunday 7/16 – 1:30PM\, 3:50PM\, 6:15PM\, 9:00PM \nMonday 7/17 – 1:50PM\, 6:00PM\, 8:25PM \nTuesday 7/18 – 1:50PM\, 4:35PM \nWednesday 7/19 – 1:50PM\, 6:00PM\, 8:25PM \nMission: Impossible – Dead Reckoning Part One \nFriday 7/14 – 11:15AM\, 12:20PM\, 2:50PM\, 4:00PM\, 7:40PM \nSaturday 7/15 – 11:15AM\, 12:20PM\, 2:50PM\, 4:00PM\, 7:40PM \nSunday 7/16 – 11:15AM (Open Caption)\, 12:20PM\, 2:50PM\, 4:00PM\, 7:40PM \nMonday 7/17 – 2:35PM\, 4:10PM\, 7:45PM \nTuesday 7/18 – 2:35PM\, 4:10PM\, 7:45PM \nWednesday 7/19 – 2:35PM\, 4:30PM (Open Caption)\, 7:45PM \nThursday 7/20 – 2:50PM\, 4:30PM\, 8:35PM \nOppenheimer \nThursday 7/20 – 6:30PM\, 8:00PM \nThe Little Mermaid \nFriday 7/14 – 11:00AM\, 2:00PM\, 5:00PM\, 8:00PM \nSaturday 7/15 – 11:00AM\, 2:00PM\, 5:00PM\, 8:00PM \nSunday 7/16 – 11:00AM\, 2:00PM\, 5:00PM\, 8:00PM \nMonday 7/17 – 2:10PM\, 5:10PM\, 8:10PM \nTuesday 7/18 – 2:10PM\, 5:10PM\, 8:10PM \nWednesday 7/19 – 2:10PM\, 5:10PM\, 8:10PM \nVertigo \nTuesday 7/18 – 7:00PM \n  \n
URL:https://westvillagedallas.com/event/violet-crown-weekly-showings-friday-july-14-thursday-july-20/
LOCATION:3699 McKinney Avenue #100\, Dallas\, TX\, 75204
ATTACH;FMTTYPE=image/png:https://westvillagedallas.com/wp-content/uploads/2023/02/vc-logo.png
END:VEVENT
END:VCALENDAR